BEGIN:VCALENDAR
VERSION:2.0
PRODID:-//PIANYC - ECPv5.12.4//NONSGML v1.0//EN
CALSCALE:GREGORIAN
METHOD:PUBLISH
X-WR-CALNAME:PIANYC
X-ORIGINAL-URL:https://www.pianyc.net
X-WR-CALDESC:Events for PIANYC
BEGIN:VTIMEZONE
TZID:America/New_York
BEGIN:DAYLIGHT
TZOFFSETFROM:-0500
TZOFFSETTO:-0400
TZNAME:EDT
DTSTART:20250309T070000
END:DAYLIGHT
BEGIN:STANDARD
TZOFFSETFROM:-0400
TZOFFSETTO:-0500
TZNAME:EST
DTSTART:20251102T060000
END:STANDARD
END:VTIMEZONE
BEGIN:VEVENT
DTSTART;TZID=America/New_York:20250409T200000
DTEND;TZID=America/New_York:20250409T213000
DTSTAMP:20260421T083739
CREATED:20241229T020353Z
LAST-MODIFIED:20241229T020353Z
UID:176322-1744228800-1744234200@www.pianyc.net
SUMMARY:New York Festival of Song: Other Worlds – Songs of Fantasy\, at Merkin Hall
DESCRIPTION:Mezzo-soprano Kara Dugan\, baritone John Brancy\, Grammy Award-winning clarinetist Mark Dover in his NYFOS debut\, and pianist Peter Dugan join NYFOS’s Steven Blier for a new program that explores the mysteries of the forest\, the ocean and the skies\, with songs by Schumann\, Spohr\, Sibelius and many others.
URL:https://www.pianyc.net/event/new-york-festival-of-song-other-worlds-songs-of-fantasy-at-merkin-hall/
LOCATION:Merkin Concert Hall at Kaufman Music Center\, 129 W 67th St\, New York\, NY\, 10036\, United States
CATEGORIES:Live Musical Performance
ATTACH;FMTTYPE=image/jpeg:https://www.kaufmanmusiccenter.org/images/uploads/events/_medium/4_-_1200x1200_-_CherylynnTsushima.jpg
GEO:40.7752368;-73.9830916
X-APPLE-STRUCTURED-LOCATION;VALUE=URI;X-ADDRESS=Merkin Concert Hall at Kaufman Music Center 129 W 67th St New York NY 10036 United States;X-APPLE-RADIUS=500;X-TITLE=129 W 67th St:geo:-73.9830916,40.7752368
END:VEVENT
END:VCALENDAR