BEGIN:VCALENDAR
VERSION:2.0
PRODID:-//PIANYC - ECPv5.12.4//NONSGML v1.0//EN
CALSCALE:GREGORIAN
METHOD:PUBLISH
X-WR-CALNAME:PIANYC
X-ORIGINAL-URL:https://www.pianyc.net
X-WR-CALDESC:Events for PIANYC
BEGIN:VTIMEZONE
TZID:America/New_York
BEGIN:DAYLIGHT
TZOFFSETFROM:-0500
TZOFFSETTO:-0400
TZNAME:EDT
DTSTART:20230312T070000
END:DAYLIGHT
BEGIN:STANDARD
TZOFFSETFROM:-0400
TZOFFSETTO:-0500
TZNAME:EST
DTSTART:20231105T060000
END:STANDARD
END:VTIMEZONE
BEGIN:VEVENT
DTSTART;TZID=America/New_York:20230314T200000
DTEND;TZID=America/New_York:20230314T213000
DTSTAMP:20260421T103053
CREATED:20221228T221540Z
LAST-MODIFIED:20221228T221540Z
UID:143800-1678824000-1678829400@www.pianyc.net
SUMMARY:New York Festival of Song: Mediterranean\, at Merkin Hall
DESCRIPTION:The program will be a musical voyage around the Mediterranean Sea from Spain to Greece\, with stops in France\, Italy\, Israel\, Egypt\, Lebanon and Tunisia.\nArtists include five young artists—four singers & one pianist—chosen to participate in Caramoor’s 2023 Schwab Vocal Rising Stars. Joining Mr. Blier as coach and co-pianist is Bénédicte Jourdois.
URL:https://www.pianyc.net/event/new-york-festival-of-song-mediterranean-at-merkin-hall/
LOCATION:Merkin Concert Hall at Kaufman Music Center\, 129 W 67th St\, New York\, NY\, 10036\, United States
CATEGORIES:Live Musical Performance
ATTACH;FMTTYPE=image/jpeg:https://www.kaufmanmusiccenter.org/images/uploads/events/_medium/3-14_-_1200x1200_-_ChristopherDuggan.jpg
GEO:40.7752368;-73.9830916
X-APPLE-STRUCTURED-LOCATION;VALUE=URI;X-ADDRESS=Merkin Concert Hall at Kaufman Music Center 129 W 67th St New York NY 10036 United States;X-APPLE-RADIUS=500;X-TITLE=129 W 67th St:geo:-73.9830916,40.7752368
END:VEVENT
END:VCALENDAR