BEGIN:VCALENDAR
VERSION:2.0
PRODID:-//PIANYC - ECPv5.12.4//NONSGML v1.0//EN
CALSCALE:GREGORIAN
METHOD:PUBLISH
X-WR-CALNAME:PIANYC
X-ORIGINAL-URL:https://www.pianyc.net
X-WR-CALDESC:Events for PIANYC
BEGIN:VTIMEZONE
TZID:America/New_York
BEGIN:DAYLIGHT
TZOFFSETFROM:-0500
TZOFFSETTO:-0400
TZNAME:EDT
DTSTART:20230312T070000
END:DAYLIGHT
BEGIN:STANDARD
TZOFFSETFROM:-0400
TZOFFSETTO:-0500
TZNAME:EST
DTSTART:20231105T060000
END:STANDARD
END:VTIMEZONE
BEGIN:VEVENT
DTSTART;TZID=America/New_York:20230406T193000
DTEND;TZID=America/New_York:20230406T223000
DTSTAMP:20260422T042855
CREATED:20220807T224008Z
LAST-MODIFIED:20220807T224008Z
UID:134332-1680809400-1680820200@www.pianyc.net
SUMMARY:New Voices Festival: Worldliness I at First Unitarian Church of Brooklyn
DESCRIPTION:Works from the European Avant Garde. \nWorldliness I explores song through the prism of the European Avant Garde\, including modern classics by Birtwistle\, Reimann\, and Saariaho alongside brilliant works from the next generation of European composers. \nPerformers \nBenjamin Attahir De l’ineffable \nHarrison Birtwistle Songs from the Same Earth \nHannah Kendall Incident \nAribert Reimann Sinnig zwischen beyden Welten (American Premiere) \nKaija Saariaho Luonnon kasvot \nAnna Thorvaldsdottir Hvolf \nMaggie Finnegan soprano: Andrew Fuchs tenor; \nDaniel Moody countertenor \nMichael Brofman\, Renate Rohlfing\, Joel Harder piano \nChieh-Fan Yiu viola \n 
URL:https://www.pianyc.net/event/new-voices-festival-worldliness-i-at-first-unitarian-church-of-brooklyn/
LOCATION:First Unitarian Church of Brooklyn\, 119 Pierrepont Street\, New York\, NY\, NY 11201\, United States
CATEGORIES:Live Musical Performance
ATTACH;FMTTYPE=image/jpeg:https://img.evbuc.com/https%3A%2F%2Fcdn.evbuc.com%2Fimages%2F319573229%2F590451800583%2F1%2Foriginal.20220716-101842?w=1000&auto=format%2Ccompress&q=75&sharp=10&rect=0%2C77%2C2296%2C1148&s=3fc9ed6564868b419ea6154da1812890
GEO:40.695386;-73.9927176
X-APPLE-STRUCTURED-LOCATION;VALUE=URI;X-ADDRESS=First Unitarian Church of Brooklyn 119 Pierrepont Street New York NY NY 11201 United States;X-APPLE-RADIUS=500;X-TITLE=119 Pierrepont Street:geo:-73.9927176,40.695386
END:VEVENT
END:VCALENDAR