BEGIN:VCALENDAR
VERSION:2.0
PRODID:-//PIANYC - ECPv5.12.4//NONSGML v1.0//EN
CALSCALE:GREGORIAN
METHOD:PUBLISH
X-WR-CALNAME:PIANYC
X-ORIGINAL-URL:https://www.pianyc.net
X-WR-CALDESC:Events for PIANYC
BEGIN:VTIMEZONE
TZID:America/New_York
BEGIN:DAYLIGHT
TZOFFSETFROM:-0500
TZOFFSETTO:-0400
TZNAME:EDT
DTSTART:20260308T070000
END:DAYLIGHT
BEGIN:STANDARD
TZOFFSETFROM:-0400
TZOFFSETTO:-0500
TZNAME:EST
DTSTART:20261101T060000
END:STANDARD
END:VTIMEZONE
BEGIN:VEVENT
DTSTART;TZID=America/New_York:20260207T193000
DTEND;TZID=America/New_York:20260207T210000
DTSTAMP:20260421T045503
CREATED:20250627T015608Z
LAST-MODIFIED:20250703T235547Z
UID:182912-1770492600-1770498000@www.pianyc.net
SUMMARY:New Jersey Symphony: 2026 Lunar New Year Celebration with Pianist Haochen Zhang\, at NJPAC
DESCRIPTION:Sunny Xia conductor\nHaochen Zhang piano\nPeking University Alumni Chorus\nNew Jersey Symphony \nEnjoy an evening of community and cultural exchange that is wonderful for families and children\, as we celebrate the Year of the Horse. Seattle Symphony Associate Conductor Sunny Xia and Van Cliburn International Piano Competition Winner Haochen Zhang make their New Jersey Symphony debuts in this festive concert that celebrates music from East and West.
URL:https://www.pianyc.net/event/new-jersey-symphony-2026-lunar-new-year-celebration-at-njpac/
LOCATION:New Jersey Performing Arts Center\, 1 Center St\, Newark\, NJ\, 07102\, United States
CATEGORIES:Live Musical Performance
ATTACH;FMTTYPE=image/jpeg:https://www.njpac.org/wp-content/uploads/2025/04/2026-LNY-Celebration.jpg
GEO:40.7401103;-74.1673925
X-APPLE-STRUCTURED-LOCATION;VALUE=URI;X-ADDRESS=New Jersey Performing Arts Center 1 Center St Newark NJ 07102 United States;X-APPLE-RADIUS=500;X-TITLE=1 Center St:geo:-74.1673925,40.7401103
END:VEVENT
END:VCALENDAR