BEGIN:VCALENDAR
VERSION:2.0
PRODID:-//PIANYC - ECPv5.12.4//NONSGML v1.0//EN
CALSCALE:GREGORIAN
METHOD:PUBLISH
X-WR-CALNAME:PIANYC
X-ORIGINAL-URL:https://www.pianyc.net
X-WR-CALDESC:Events for PIANYC
BEGIN:VTIMEZONE
TZID:America/New_York
BEGIN:DAYLIGHT
TZOFFSETFROM:-0500
TZOFFSETTO:-0400
TZNAME:EDT
DTSTART:20230312T070000
END:DAYLIGHT
BEGIN:STANDARD
TZOFFSETFROM:-0400
TZOFFSETTO:-0500
TZNAME:EST
DTSTART:20231105T060000
END:STANDARD
END:VTIMEZONE
BEGIN:VEVENT
DTSTART;TZID=America/New_York:20231211T193000
DTEND;TZID=America/New_York:20231211T210000
DTSTAMP:20260420T064518
CREATED:20231112T182646Z
LAST-MODIFIED:20231112T182646Z
UID:156739-1702323000-1702328400@www.pianyc.net
SUMMARY:Nadia and Lili Boulanger & the Boulangerie\, at Merkin Hall
DESCRIPTION:WHAT MAKES IT GREAT? Hosted by Rob Kapilow and featuring tenor Nicholas Phan and pianist Maxim Lando \nExplore songs by Prix de Rome winning composer Lili Boulanger; her legendary sister\, the French composer\, conductor and educator Nadia Boulanger\, and Nadia’s incredible roster of students – a who’s who of great composers of the 20th century\, from Aaron Copland\, Igor Stravinsky\, Astor Piazzolla and Leonard Bernstein to Elliott Carter\, Burt Bacharach and Quincy Jones. How did she help such a wildly diverse group of composers find their unique personal voices – and at what cost to her own? Featuring songs by Aaron Copland\, Burt Bacharach and more.
URL:https://www.pianyc.net/event/nadia-and-lili-boulanger-the-boulangerie-at-merkin-hall/
LOCATION:Merkin Concert Hall at Kaufman Music Center\, 129 W 67th St\, New York\, NY\, 10036\, United States
CATEGORIES:Live Musical Performance
ATTACH;FMTTYPE=image/jpeg:https://www.kaufmanmusiccenter.org/images/uploads/events/_medium/Nadia_Boulanger_1200x1200_1.jpg
GEO:40.7752368;-73.9830916
X-APPLE-STRUCTURED-LOCATION;VALUE=URI;X-ADDRESS=Merkin Concert Hall at Kaufman Music Center 129 W 67th St New York NY 10036 United States;X-APPLE-RADIUS=500;X-TITLE=129 W 67th St:geo:-73.9830916,40.7752368
END:VEVENT
END:VCALENDAR