BEGIN:VCALENDAR
VERSION:2.0
PRODID:-//PIANYC - ECPv5.12.4//NONSGML v1.0//EN
CALSCALE:GREGORIAN
METHOD:PUBLISH
X-WR-CALNAME:PIANYC
X-ORIGINAL-URL:https://www.pianyc.net
X-WR-CALDESC:Events for PIANYC
BEGIN:VTIMEZONE
TZID:America/New_York
BEGIN:DAYLIGHT
TZOFFSETFROM:-0500
TZOFFSETTO:-0400
TZNAME:EDT
DTSTART:20240310T070000
END:DAYLIGHT
BEGIN:STANDARD
TZOFFSETFROM:-0400
TZOFFSETTO:-0500
TZNAME:EST
DTSTART:20241103T060000
END:STANDARD
END:VTIMEZONE
BEGIN:VEVENT
DTSTART;TZID=America/New_York:20240806T190000
DTEND;TZID=America/New_York:20240806T220000
DTSTAMP:20260420T121432
CREATED:20240805T185622Z
LAST-MODIFIED:20240805T204219Z
UID:168874-1722970800-1722981600@www.pianyc.net
SUMMARY:Musical Theater Piano Bar at Strong Rope Brewery Gowanus
DESCRIPTION:Calling all show tune lovers! Join Strong Rope’s talented beertender and pianist Kevin Milnes as he plays your favorite Broadway tunes on the piano. You’re invited to sing along — whether as a group from the safety of your barstool (à la Marie’s Crisis) or take to the mic to sing a solo or duet. Check out his book and choose a song to sing your heart out to! \nAll are welcome! Sign-ups start at 6:30 pm. Tips appreciated.
URL:https://www.pianyc.net/event/musical-theater-piano-bar-at-strong-rope-brewery-at-strong-rope-brewery-gowanus/
LOCATION:Strong Rope Brewery Gowanus\, 574 President St\, Brooklyn\, NY\, 11215\, United States
CATEGORIES:Live Musical Performance
ATTACH;FMTTYPE=image/jpeg:https://img.evbuc.com/https%3A%2F%2Fcdn.evbuc.com%2Fimages%2F816352349%2F245612207111%2F1%2Foriginal.20240729-152856?w=1000&auto=format%2Ccompress&q=75&sharp=10&rect=0%2C17%2C1280%2C640&s=0c69e065a324a2f4019e814a6d9bbf34
GEO:40.6768152;-73.9841619
X-APPLE-STRUCTURED-LOCATION;VALUE=URI;X-ADDRESS=Strong Rope Brewery Gowanus 574 President St Brooklyn NY 11215 United States;X-APPLE-RADIUS=500;X-TITLE=574 President St:geo:-73.9841619,40.6768152
END:VEVENT
END:VCALENDAR