BEGIN:VCALENDAR
VERSION:2.0
PRODID:-//PIANYC - ECPv5.12.4//NONSGML v1.0//EN
CALSCALE:GREGORIAN
METHOD:PUBLISH
X-WR-CALNAME:PIANYC
X-ORIGINAL-URL:https://www.pianyc.net
X-WR-CALDESC:Events for PIANYC
BEGIN:VTIMEZONE
TZID:America/New_York
BEGIN:DAYLIGHT
TZOFFSETFROM:-0500
TZOFFSETTO:-0400
TZNAME:EDT
DTSTART:20260308T070000
END:DAYLIGHT
BEGIN:STANDARD
TZOFFSETFROM:-0400
TZOFFSETTO:-0500
TZNAME:EST
DTSTART:20261101T060000
END:STANDARD
END:VTIMEZONE
BEGIN:VEVENT
DTSTART;TZID=America/New_York:20260122T190000
DTEND;TZID=America/New_York:20260122T230000
DTSTAMP:20260423T135824
CREATED:20260103T200916Z
LAST-MODIFIED:20260103T200916Z
UID:195544-1769108400-1769122800@www.pianyc.net
SUMMARY:Ms. Lisa Fischer Featuring Orrin Evans Trio at Birdland (Early and Late Shows)
DESCRIPTION:When the iconic Ms. Lisa Fischer sings\, she brings a joyous sense of discovery to every song. The Grammy and Oscar  winning powerhouse vocalist is at the peak of her powers\, blazing her own path\, reveling in the chance to dive into every  vocal possibility. While she carries traces of the legendary stars with whom she’s collaborated over four decades\, Ms. Lisa  Fischer is a constellation in her own right\, singing songs with “amazing power\, energy\, and projection” enthuses Keith Richards\, after 26 years of musicmaking with Ms. Lisa Fischer in the Rolling Stones.   \nLisa Fischer and Orrin Evans\, whether as a duo\, trio or collaborating with The Captain Black Big Band\, create an enthralling musical experience that seamlessly blends Fischer’s soulful and versatile vocals with Evans’ masterful piano artistry\, evoking a fusion of genres beyond the traditional boundaries. In either a trio setting or with the expansive sound from Evan’s Captain Black Big Band\, their collaboration is marked by a harmonious interplay\, where Fischer’s emotive delivery finds a perfect complement in Evans’ innovative arrangements. The result is a dynamic and soul-stirring performance\, where each note resonates with depth and passion. Together\, they navigate the realms of jazz\, soul\, and beyond\, leaving an indelible mark on the listener’s soul\, showcasing the power of their musical union and the magic they create as a collaborative force. \n\nThis event is recurring on the following dates:\nTue\, Jan 20 at 07:00 PM\nTue\, Jan 20 at 09:30 PM\nWed\, Jan 21 at 07:00 PM\nWed\, Jan 21 at 09:30 PM\nThu\, Jan 22 at 07:00 PM\nThu\, Jan 22 at 09:30 PM\nFri\, Jan 23 at 08:30 PM\nFri\, Jan 23 at 10:30 PM\nSat\, Jan 24 at 08:30 PM\nSat\, Jan 24 at 10:30 PM
URL:https://www.pianyc.net/event/ms-lisa-fischer-featuring-orrin-evans-trio-at-birdland-early-and-late-shows/2026-01-22/
LOCATION:Birdland\, 315 West 44th Street\, New York\, NY\, 10036\, United States
CATEGORIES:Live Musical Performance
ATTACH;FMTTYPE=image/jpeg:https://i.ticketweb.com/i/00/13/24/78/23_Original.jpg
GEO:40.759194;-73.9898
X-APPLE-STRUCTURED-LOCATION;VALUE=URI;X-ADDRESS=Birdland 315 West 44th Street New York NY 10036 United States;X-APPLE-RADIUS=500;X-TITLE=315 West 44th Street:geo:-73.9898,40.759194
END:VEVENT
END:VCALENDAR