BEGIN:VCALENDAR
VERSION:2.0
PRODID:-//PIANYC - ECPv5.12.4//NONSGML v1.0//EN
CALSCALE:GREGORIAN
METHOD:PUBLISH
X-WR-CALNAME:PIANYC
X-ORIGINAL-URL:https://www.pianyc.net
X-WR-CALDESC:Events for PIANYC
BEGIN:VTIMEZONE
TZID:America/New_York
BEGIN:DAYLIGHT
TZOFFSETFROM:-0500
TZOFFSETTO:-0400
TZNAME:EDT
DTSTART:20230312T070000
END:DAYLIGHT
BEGIN:STANDARD
TZOFFSETFROM:-0400
TZOFFSETTO:-0500
TZNAME:EST
DTSTART:20231105T060000
END:STANDARD
END:VTIMEZONE
BEGIN:VEVENT
DTSTART;TZID=America/New_York:20230908T190000
DTEND;TZID=America/New_York:20230908T203000
DTSTAMP:20260420T095214
CREATED:20230819T152139Z
LAST-MODIFIED:20230820T184356Z
UID:153742-1694199600-1694205000@www.pianyc.net
SUMMARY:Mozart\, Janáček\, Brahms / Rolf Schulte and Joe Liccardo\, at Bargemusic
DESCRIPTION:Mozart  Sonata in E flat Major for violin and piano\, K. 380 (1781) \n\nAllegro\nAndante con moto\nRondeau / Allegro\n\nJanáček Sonata for violin and piano (1913-21) \n\nCon moto\nBallada / Con moto\nAllegretto\nAdagio – Poco mosso – Maestoso – Adagio\n\nBrahms Sonata in G Major for violin and  piano\, Op. 78 No. 1 (1894) \n\nAllegro amabile\nAllegro appassionato\nAndante con moto / Allegro\n\nRolf Schulte\, violin \nJoe Liccardo\, piano
URL:https://www.pianyc.net/event/mozart-janacek-brahms-rolf-schulte-and-joe-liccardo-at-bargemusic/
LOCATION:Bargemusic\, 1 Water St.\, Brooklyn\, NY\, 11201\, United States
CATEGORIES:Live Musical Performance
ATTACH;FMTTYPE=image/jpeg:https://www.yellowbarn.org/sites/default/files/styles/artist-image/public/musician-images/liccardo.jpg?itok=-LW7ZUs5
GEO:40.703195;-73.9947228
X-APPLE-STRUCTURED-LOCATION;VALUE=URI;X-ADDRESS=Bargemusic 1 Water St. Brooklyn NY 11201 United States;X-APPLE-RADIUS=500;X-TITLE=1 Water St.:geo:-73.9947228,40.703195
END:VEVENT
END:VCALENDAR