BEGIN:VCALENDAR
VERSION:2.0
PRODID:-//PIANYC - ECPv5.12.4//NONSGML v1.0//EN
CALSCALE:GREGORIAN
METHOD:PUBLISH
X-WR-CALNAME:PIANYC
X-ORIGINAL-URL:https://www.pianyc.net
X-WR-CALDESC:Events for PIANYC
BEGIN:VTIMEZONE
TZID:America/New_York
BEGIN:DAYLIGHT
TZOFFSETFROM:-0500
TZOFFSETTO:-0400
TZNAME:EDT
DTSTART:20240310T070000
END:DAYLIGHT
BEGIN:STANDARD
TZOFFSETFROM:-0400
TZOFFSETTO:-0500
TZNAME:EST
DTSTART:20241103T060000
END:STANDARD
END:VTIMEZONE
BEGIN:VEVENT
DTSTART;TZID=America/New_York:20241112T193000
DTEND;TZID=America/New_York:20241112T210000
DTSTAMP:20260420T070022
CREATED:20240815T161234Z
LAST-MODIFIED:20240815T165054Z
UID:169642-1731439800-1731445200@www.pianyc.net
SUMMARY:Mitsuko Uchida\, Piano; Musicians from Marlboro at Carnegie Hall
DESCRIPTION:Performers\nMitsuko Uchida\, Piano\nMusicians from Marlboro\n– Stephanie Zyzak\, Violin\n– Beth Guterman Chu\, Viola\n– Oliver Herbert\, Cello \nOne of today’s most insightful pianists\, Mitsuko Uchida begins the final season of her Carnegie Hall Perspectives series with a concert that highlights her supreme sensitivity as a collaborator; dedication to developing extraordinary young talent; and thoughtful\, varied programming. The performance comprises music by Beethoven\, Robert Schumann\, and György Kurtág\, whose works Uchida is widely considered to be a master interpreter. It brings Uchida together with exceptional rising professionals from the renowned Marlboro Music Festival\, which has introduced audiences to countless modern greats\, and of which Uchida is an artistic director. \nProgram\nGYÖRGY KURTÁG “Play with Infinity” from Játékok\, Book III\nBEETHOVEN Piano Trio in E-flat Major\, Op. 70\, No. 2\nGYÖRGY KURTÁG Selections from Signs\, Games and Messages\nR. SCHUMANN Piano Quartet
URL:https://www.pianyc.net/event/mitsuko-uchida-piano-musicians-from-marlboro-at-carnegie-hall/
LOCATION:Carnegie Hall\, 881 Seventh Avenue\, New York\, NY\, 10019\, United States
CATEGORIES:Live Musical Performance
ATTACH;FMTTYPE=image/jpeg:https://carnegiehall.imgix.net:443/-/media/CarnegieHall/Images/Events/2024-2025-CH-Presents/2024-11-12-Mitsuko-Uchida-Musicians-from-Marlboro.jpg
GEO:40.764938;-73.979897
X-APPLE-STRUCTURED-LOCATION;VALUE=URI;X-ADDRESS=Carnegie Hall 881 Seventh Avenue New York NY 10019 United States;X-APPLE-RADIUS=500;X-TITLE=881 Seventh Avenue:geo:-73.979897,40.764938
END:VEVENT
END:VCALENDAR