BEGIN:VCALENDAR
VERSION:2.0
PRODID:-//PIANYC - ECPv5.12.4//NONSGML v1.0//EN
CALSCALE:GREGORIAN
METHOD:PUBLISH
X-WR-CALNAME:PIANYC
X-ORIGINAL-URL:https://www.pianyc.net
X-WR-CALDESC:Events for PIANYC
BEGIN:VTIMEZONE
TZID:America/New_York
BEGIN:DAYLIGHT
TZOFFSETFROM:-0500
TZOFFSETTO:-0400
TZNAME:EDT
DTSTART:20250309T070000
END:DAYLIGHT
BEGIN:STANDARD
TZOFFSETFROM:-0400
TZOFFSETTO:-0500
TZNAME:EST
DTSTART:20251102T060000
END:STANDARD
END:VTIMEZONE
BEGIN:VEVENT
DTSTART;TZID=America/New_York:20251018T193000
DTEND;TZID=America/New_York:20251018T203000
DTSTAMP:20260423T013718
CREATED:20250919T183000Z
LAST-MODIFIED:20251009T233957Z
UID:188285-1760815800-1760819400@www.pianyc.net
SUMMARY:Mine Be the Lips - a concert of songs by women composers\, at St. John's in the Village Episcopal Church
DESCRIPTION:Vira + Friends presents Mine Be the Lips – a concert of songs by women composers performed by contralto Vira Slywotzky and pianist David Sytkowski. \nThis carefully curated program celebrates the diverse output of female composers of the past who have been overlooked and under programmed because of their gender and the works of innovative female composers of the present. The songs have been selected both for their beauty and also for their power to transport listeners. Featuring music by Maria Szymanowska\, Silvia Filus\, Poldowski\, Amy Beach\, Stefania Turkewich\, Sheila Silver\, Lori Laitman and others. \nQuestions? Email hello@viraandfriends.org. \n  \nAbout the performers: \nContralto Vira Slywotzky has performed principal roles with Seattle Opera\, Chautauqua Opera\, Chelsea Opera\, Center for Contemporary Opera\, Sarasota Opera and Boston Midsummer Opera. She has sung concerts\, recitals and cabarets in New York City venues from The Duplex to Weill Hall at Carnegie Hall and on tour all over the United States. Internationally Slywotzky has been heard in Canada\, France\, Hungary\, Sweden and Wales. \nA champion of new music\, she has workshopped and premiered more than 30 works including songs\, full scale opera and narration with orchestra. \nSince February 2022 Slywotzky has been serving as a cultural ambassador and fundraising for Razom for Ukraine and other organizations providing aid to and supporting Ukraine. Her performances have collected over $250\,000. \nParticipant in numerous competitions and winner of awards\, most significantly Slywotzky was the sole representative of the USA at the 2009 BBC Cardiff Singer of the World Competition. “Vira Slywotzky is an immensely talented\, charismatic performer who transforms herself\, and captivates her audience with her songs and tales.” – The Village View \nwww.viraslywotzky.com \nPianist David Sytkowski is a Visiting Artist in Residence at Bard College and the Bard College Conservatory of Music\, where he is Director of Music for Opera Workshop\, leads the Musical Theatre Performance Workshop\, coaches singers and teaches private piano. \nVOWEL MOVEMENTS\, a subversive classical/cabaret/drag collaboration with Pretty Lamé\, with support of the New York State Council on the Arts\, premiered at Hudson Hall in June 2023 and was remounted for ICA Miami in February 2024. \nIn September 2019\, he made his Joe’s Pub debut in Under The Influence with legendary cabaret artist Justin Vivian Bond. This led to Auntie Glam’s Happy Hour\, a weekly livestream during the initial COVID-19 shut down that New York Times critic Zachary Woolf proclaimed one of “The Best of the Year’s At-Home Divas” in December 2020. Recent appearances with Vivian include Feinstein’s at the Nikko San Francisco and Little Island in NYC Summer 2024. \nHe frequently performs as a symphony pianist and collaborator at venues such as Carnegie Hall\, Weill Recital Hall\, Jazz at Lincoln Center\, Joe’s Pub\, The Duplex\, the Fisher Center for the Performing Arts\, and Hudson Hall.
URL:https://www.pianyc.net/event/mine-be-the-lips-a-concert-of-songs-by-women-composers-at-st-johns-in-the-village-episcopal-church/
LOCATION:St. John’s in the Village Episcopal Church\, 218 W 11th St\, New York\, NY\, 10014\, United States
CATEGORIES:Live Musical Performance
ATTACH;FMTTYPE=image/jpeg:https://cdn.evbuc.com/images/1127562323/14210349983/1/original.20250917-220710
GEO:40.7363047;-74.0021184
X-APPLE-STRUCTURED-LOCATION;VALUE=URI;X-ADDRESS=St. John’s in the Village Episcopal Church 218 W 11th St New York NY 10014 United States;X-APPLE-RADIUS=500;X-TITLE=218 W 11th St:geo:-74.0021184,40.7363047
END:VEVENT
END:VCALENDAR