BEGIN:VCALENDAR
VERSION:2.0
PRODID:-//PIANYC - ECPv5.12.4//NONSGML v1.0//EN
CALSCALE:GREGORIAN
METHOD:PUBLISH
X-WR-CALNAME:PIANYC
X-ORIGINAL-URL:https://www.pianyc.net
X-WR-CALDESC:Events for PIANYC
BEGIN:VTIMEZONE
TZID:America/New_York
BEGIN:DAYLIGHT
TZOFFSETFROM:-0500
TZOFFSETTO:-0400
TZNAME:EDT
DTSTART:20240310T070000
END:DAYLIGHT
BEGIN:STANDARD
TZOFFSETFROM:-0400
TZOFFSETTO:-0500
TZNAME:EST
DTSTART:20241103T060000
END:STANDARD
END:VTIMEZONE
BEGIN:VEVENT
DTSTART;TZID=America/New_York:20241109T173000
DTEND;TZID=America/New_York:20241109T173000
DTSTAMP:20260420T070056
CREATED:20240914T164856Z
LAST-MODIFIED:20240914T164856Z
UID:171001-1731173400-1731173400@www.pianyc.net
SUMMARY:Miki Yamanaka Trio at Birdland
DESCRIPTION:34-year old Japanese-born pianist Miki Yamanaka has called New York City home since 2012 and in the past decade has wasted no time establishing herself as one of the leading personalities of her generation on the piano and beyond. Critics laud her “light\, expressive touch and solidly crafted\, mainstream approach” – Mike Jurkovic (All About Jazz)\, while audiences delight in not only her playing\, but her vibrant personality as well. Yamanaka has gained international recognition from her albums as a leader; her most recent and most celebrated release\, “Shades Of Rainbow” (Cellar Music)\, features Jazz masters Mark Turner and her NYC rhythm section\, Tyrone Allen and Jimmy Macbride. Additionally\, Miki has emerged as a leader of the “New York Scene” via her notable residencies at mainstay West Village sister clubs Smalls and Mezzrow. During the pandemic\, she developed a successful in-home live-streaming weekly concert series cleverly titled “Miki’s Mood” where she features a veritable who’s who of NYC talent (including her husband and frequent collaborator – drummer Jimmy Macbride). The series showcases her vast knowledge of Jazz standards and tunes\, often featuring themed offerings of various composers from both the Great American Songbook as well as iconic Jazz composers. \n    As a sideman\, Yamanaka has worked with Jazz luminaries such as alto saxophonist Antonio Hart who posits “Miki will be recognized as one of the most exceptional artists of her generation\, as she is already one of the most talented and dedicated musicians from Japan.” Other notable bands she currently works in include the Harish Raghavan Quintet and The Mingus Bigband. One of her most respected mentors on piano and organ (Yamanaka also performs on organ frequently)\, Larry Goldings\, once mused\, “If only I could have Miki Yamanaka comp behind me!” – a compliment of the highest order from one master pianist to another. She has a myriad of glowing reviews from her recorded work and the iconic Downbeat Jazz magazine has repeatedly awarded her albums high marks.
URL:https://www.pianyc.net/event/miki-yamanaka-trio-at-birdland/2024-11-09/
LOCATION:Birdland\, 315 West 44th Street\, New York\, NY\, 10036\, United States
CATEGORIES:Live Musical Performance
ATTACH;FMTTYPE=image/jpeg:https://i.ticketweb.com/i/00/12/56/56/43_Original.jpg?v=3
GEO:40.759194;-73.9898
X-APPLE-STRUCTURED-LOCATION;VALUE=URI;X-ADDRESS=Birdland 315 West 44th Street New York NY 10036 United States;X-APPLE-RADIUS=500;X-TITLE=315 West 44th Street:geo:-73.9898,40.759194
END:VEVENT
END:VCALENDAR