BEGIN:VCALENDAR
VERSION:2.0
PRODID:-//PIANYC - ECPv5.12.4//NONSGML v1.0//EN
CALSCALE:GREGORIAN
METHOD:PUBLISH
X-WR-CALNAME:PIANYC
X-ORIGINAL-URL:https://www.pianyc.net
X-WR-CALDESC:Events for PIANYC
BEGIN:VTIMEZONE
TZID:America/New_York
BEGIN:DAYLIGHT
TZOFFSETFROM:-0500
TZOFFSETTO:-0400
TZNAME:EDT
DTSTART:20250309T070000
END:DAYLIGHT
BEGIN:STANDARD
TZOFFSETFROM:-0400
TZOFFSETTO:-0500
TZNAME:EST
DTSTART:20251102T060000
END:STANDARD
END:VTIMEZONE
BEGIN:VEVENT
DTSTART;TZID=America/New_York:20251003T193000
DTEND;TZID=America/New_York:20251003T210000
DTSTAMP:20260422T181142
CREATED:20250708T175406Z
LAST-MODIFIED:20250722T235713Z
UID:183439-1759519800-1759525200@www.pianyc.net
SUMMARY:Michelle Chen Kuo and Christopher Kuo\, Two-Piano Recital at Carnegie Hall
DESCRIPTION:Performers\nMichelle Chen Kuo\, Piano\nChristopher Kuo\, Piano \nPianist Michelle Chen Kuo returns to Zankel Hall with her son\, pianist Christopher Kuo\, for the Chinese-American Planning Council’s 60th year of providing critical services to immigrant and low-income communities in New York City. Together\, they perform two-piano\, duet\, and solo works by Rachmaninoff\, Chopin\, Liszt\, Tchaikovsky\, and other Romantic-era composers. The duo has toured since 2016\, performing over 40 recitals in support of nonprofit organizations such as Wu Yee Children’s Services and Rescuing Leftover Cuisine. \nProgram\nRACHMANINOFF Russian Rhapsody\nRACHMANINOFF Suite No. 1 for Two Pianos\, Op. 5\nRACHMANINOFF Suite No. 2 for Two Pianos\, Op. 17\nRACHMANINOFF Selections from Six Duets\, Op. 11\nBRAHMS Selections from Hungarian Dances\nINFANTE Selections from Danses Andalouses\nALBÉNIZ Navarra (arr. Marshall)\nCHOPIN Polonaise in A-flat Major\, Op. 53\nLISZT Hungarian Rhapsody No. 6 in D-flat Major\nLISZT Rigoletto\, Concert Paraphrase for Piano
URL:https://www.pianyc.net/event/michelle-chen-kuo-and-christopher-kuo-two-piano-recital-at-carnegie-hall/
LOCATION:Carnegie Hall\, 881 Seventh Avenue\, New York\, NY\, 10019\, United States
CATEGORIES:Live Musical Performance
ATTACH;FMTTYPE=image/jpeg:https://carnegiehall.imgix.net:443/-/media/CarnegieHall/Images/Events/2025-2026-Rentals/2025-10-03-ZH-Michelle-Chen-Kuo-and-Christopher-Kuo.jpg
ORGANIZER;CN="Chinese-American%20Planning%20Council%2C%20Inc.":MAILTO:info@cpc-nyc.org
GEO:40.764938;-73.979897
X-APPLE-STRUCTURED-LOCATION;VALUE=URI;X-ADDRESS=Carnegie Hall 881 Seventh Avenue New York NY 10019 United States;X-APPLE-RADIUS=500;X-TITLE=881 Seventh Avenue:geo:-73.979897,40.764938
END:VEVENT
END:VCALENDAR