BEGIN:VCALENDAR
VERSION:2.0
PRODID:-//PIANYC - ECPv5.12.4//NONSGML v1.0//EN
CALSCALE:GREGORIAN
METHOD:PUBLISH
X-WR-CALNAME:PIANYC
X-ORIGINAL-URL:https://www.pianyc.net
X-WR-CALDESC:Events for PIANYC
BEGIN:VTIMEZONE
TZID:America/New_York
BEGIN:DAYLIGHT
TZOFFSETFROM:-0500
TZOFFSETTO:-0400
TZNAME:EDT
DTSTART:20230312T070000
END:DAYLIGHT
BEGIN:STANDARD
TZOFFSETFROM:-0400
TZOFFSETTO:-0500
TZNAME:EST
DTSTART:20231105T060000
END:STANDARD
END:VTIMEZONE
BEGIN:VEVENT
DTSTART;TZID=America/New_York:20230314T223000
DTEND;TZID=America/New_York:20230314T223000
DTSTAMP:20260421T120908
CREATED:20230311T190515Z
LAST-MODIFIED:20230311T195039Z
UID:146962-1678833000-1678833000@www.pianyc.net
SUMMARY:Michael Kanan\, Greg Ruggiero & David Wong at Mezzrow
DESCRIPTION:Performers: \nMichael Kanan / Piano\nGreg Ruggiero / Guitar\nDavid Wong / Bass
URL:https://www.pianyc.net/event/michael-kanan-greg-ruggiero-david-wong-at-mezzrow/2023-03-14/
LOCATION:Mezzrow\, 163 W 10th St\, New York\, NY\, 10014\, United States
CATEGORIES:Live Musical Performance
ATTACH;FMTTYPE=:
GEO:40.7345655;-74.0019412
X-APPLE-STRUCTURED-LOCATION;VALUE=URI;X-ADDRESS=Mezzrow 163 W 10th St New York NY 10014 United States;X-APPLE-RADIUS=500;X-TITLE=163 W 10th St:geo:-74.0019412,40.7345655
END:VEVENT
END:VCALENDAR