BEGIN:VCALENDAR
VERSION:2.0
PRODID:-//PIANYC - ECPv5.12.4//NONSGML v1.0//EN
CALSCALE:GREGORIAN
METHOD:PUBLISH
X-WR-CALNAME:PIANYC
X-ORIGINAL-URL:https://www.pianyc.net
X-WR-CALDESC:Events for PIANYC
BEGIN:VTIMEZONE
TZID:America/New_York
BEGIN:DAYLIGHT
TZOFFSETFROM:-0500
TZOFFSETTO:-0400
TZNAME:EDT
DTSTART:20230312T070000
END:DAYLIGHT
BEGIN:STANDARD
TZOFFSETFROM:-0400
TZOFFSETTO:-0500
TZNAME:EST
DTSTART:20231105T060000
END:STANDARD
END:VTIMEZONE
BEGIN:VEVENT
DTSTART;TZID=America/New_York:20230318T193000
DTEND;TZID=America/New_York:20230318T213000
DTSTAMP:20260421T102746
CREATED:20221102T160944Z
LAST-MODIFIED:20221102T160944Z
UID:140393-1679167800-1679175000@www.pianyc.net
SUMMARY:Metropolitan Piano Stories at Church In the Gardens
DESCRIPTION:MRP’s second annual program of piano music by living women composers from the NYC metropolitan area with each piece having a special story behind its creation. Performed by Barbara Podgurski and Beata Moon\, joined by guest composers who will introduce or perform their own works. \nLast year’s composers included Victoria Bond\, Dalit Warshaw\, Anjelica Negron\, Meredith Monk\, Valerie Capers\, Missy Mazzoli\, Niloufar Nourbakhsh\, and Beata Moon. Metropolitan Piano Stories is part of Musica Reginae’s Community Concerts Series for 2022 – 2023. More info on the rest of the season may be found by visiting musicareginae.org. Advance ticket purchase is recommended but tickets will be available at the door starting one hour prior to performance. Cash and credit card accepted at the door. \nPerformers: \nBeata Moon\, piano\nBarbara Podgurski\, piano\nGuest composers\, piano TBA \nAbout Musica Reginae Productions: \nFounded in 2000\, Musica Reginae Productions (MRP) brings innovative programming and world-renowned artists to concert spaces in Queens\, the most ethnically diverse county in the world. MRP’s mission is to be “Your natural choice for fine music in Queens.” \nMRP produces affordable\, informative\, and family friendly concerts featuring music that draws its inspiration from the classical\, chamber\, opera\, jazz and world music literature. Our concerts provide a venue for talented and exciting young and established artists and we have become increasingly devoted to presenting new music by emerging composers\, particularly those who have an affiliation with NYC and with our home borough of Queens. MRP fulfills its educational outreach mission with its Community Concerts for Kids\, a free interactive\, educational series for children and families ages 4 and up\, led by teaching artists Beata Moon and MRP Artistic Director Barbara Podgurski. In addition\, our artists perform at several public events every year including the 9/11 ceremonies in lower Manhattan and have also performed for Pope Francis during his Papal Visit of 2015. MRP is able to present top-notch performances each season because of the support it receives from individual and corporate sponsors in addition to partial funding from the Department of Cultural Affairs\, the New York State Council on the Arts and NYC & Co.
URL:https://www.pianyc.net/event/metropolitan-piano-stories-at-church-in-the-gardens/
LOCATION:Church in the Gardens\, 50 Ascan Ave\, New York\, NY\, NY 11375\, United States
CATEGORIES:Live Musical Performance
ATTACH;FMTTYPE=image/jpeg:https://img.evbuc.com/https%3A%2F%2Fcdn.evbuc.com%2Fimages%2F352241979%2F661337642213%2F1%2Foriginal.20220912-011502?w=1000&auto=format%2Ccompress&q=75&sharp=10&rect=0%2C0%2C2160%2C1080&s=c6f1fd3d1ad49663bb12750d49b5d6d1
GEO:40.7163678;-73.8414698
X-APPLE-STRUCTURED-LOCATION;VALUE=URI;X-ADDRESS=Church in the Gardens 50 Ascan Ave New York NY NY 11375 United States;X-APPLE-RADIUS=500;X-TITLE=50 Ascan Ave:geo:-73.8414698,40.7163678
END:VEVENT
END:VCALENDAR