BEGIN:VCALENDAR
VERSION:2.0
PRODID:-//PIANYC - ECPv5.12.4//NONSGML v1.0//EN
CALSCALE:GREGORIAN
METHOD:PUBLISH
X-WR-CALNAME:PIANYC
X-ORIGINAL-URL:https://www.pianyc.net
X-WR-CALDESC:Events for PIANYC
BEGIN:VTIMEZONE
TZID:America/New_York
BEGIN:DAYLIGHT
TZOFFSETFROM:-0500
TZOFFSETTO:-0400
TZNAME:EDT
DTSTART:20250309T070000
END:DAYLIGHT
BEGIN:STANDARD
TZOFFSETFROM:-0400
TZOFFSETTO:-0500
TZNAME:EST
DTSTART:20251102T060000
END:STANDARD
END:VTIMEZONE
BEGIN:VEVENT
DTSTART;TZID=America/New_York:20250329T143000
DTEND;TZID=America/New_York:20250329T160000
DTSTAMP:20260423T182309
CREATED:20250208T170635Z
LAST-MODIFIED:20250208T170635Z
UID:177334-1743258600-1743264000@www.pianyc.net
SUMMARY:Members of the New York Piano Society at Carnegie Hall
DESCRIPTION:Performers\nMembers of the New York Piano Society\nNatasha Paremski\, Artistic Director\nZuill Bailey\, Cello\nKurt Nikkanen\, Violin \nProgram\nProgram to include:\nTCHAIKOVSKY Piano Trio
URL:https://www.pianyc.net/event/members-of-the-new-york-piano-society-at-carnegie-hall-2/
LOCATION:Carnegie Hall\, 881 Seventh Avenue\, New York\, NY\, 10019\, United States
CATEGORIES:Live Musical Performance
ATTACH;FMTTYPE=image/jpeg:https://carnegiehall.imgix.net/-/media/CarnegieHall/Images/About/Rentals/Carnegie-Hall-Exterior-at-Night-Updated-21-22.jpg
GEO:40.764938;-73.979897
X-APPLE-STRUCTURED-LOCATION;VALUE=URI;X-ADDRESS=Carnegie Hall 881 Seventh Avenue New York NY 10019 United States;X-APPLE-RADIUS=500;X-TITLE=881 Seventh Avenue:geo:-73.979897,40.764938
END:VEVENT
END:VCALENDAR