BEGIN:VCALENDAR
VERSION:2.0
PRODID:-//PIANYC - ECPv5.12.4//NONSGML v1.0//EN
CALSCALE:GREGORIAN
METHOD:PUBLISH
X-WR-CALNAME:PIANYC
X-ORIGINAL-URL:https://www.pianyc.net
X-WR-CALDESC:Events for PIANYC
BEGIN:VTIMEZONE
TZID:America/New_York
BEGIN:DAYLIGHT
TZOFFSETFROM:-0500
TZOFFSETTO:-0400
TZNAME:EDT
DTSTART:20230312T070000
END:DAYLIGHT
BEGIN:STANDARD
TZOFFSETFROM:-0400
TZOFFSETTO:-0500
TZNAME:EST
DTSTART:20231105T060000
END:STANDARD
END:VTIMEZONE
BEGIN:VEVENT
DTSTART;TZID=America/New_York:20230925T193000
DTEND;TZID=America/New_York:20230925T223000
DTSTAMP:20260423T043231
CREATED:20230911T111124Z
LAST-MODIFIED:20230911T111124Z
UID:154628-1695670200-1695681000@www.pianyc.net
SUMMARY:MCP Performs Masterworks for Clarinet\, Piano\, and Strings on the UWS! at Broadway Presbyterian Church Nursery School
DESCRIPTION:114th and Broadway\nDoors Open: 6:30 PM\nPre-Concert Talk and Q&A: 7 PM\nConcert: 7:30 PM\n$20 General Admission\nStudents and Children FREE \nProgram:\nW.A. Mozart (1756 – 1791)\nTrio in Eb major\, K. 498 “Kegelstatt” (1786)\nMax Bruch (1838 – 1920)\nSelections from Eight Pieces for Clarinet\, Viola\, and Piano\, Op. 83 (1908)\nIntermission\nRobert Schumann (1810 – 1856)\nFantasiestücke (“Fairy Tales”) Op. 73 (1849)\nJohannes Brahms (1833 – 1897) \nTrio for Clarinet\, Cello\, and Piano\, Op. 114 (1891)\nManhattan Chamber Players\nDavid Fung\, Piano\nMark Dover\, Clarinet\nLuke Fleming\, Viola\nBrook Speltz\, Cello
URL:https://www.pianyc.net/event/mcp-performs-masterworks-for-clarinet-piano-and-strings-on-the-uws-at-broadway-presbyterian-church-nursery-school/
LOCATION:Broadway Presbyterian Church Nursery School\, 601 W 114th St\, New York\, NY\, NY 10025\, United States
CATEGORIES:Live Musical Performance
ATTACH;FMTTYPE=image/jpeg:https://img.evbuc.com/https%3A%2F%2Fcdn.evbuc.com%2Fimages%2F587026559%2F163568610123%2F1%2Foriginal.20230831-042450?w=1000&auto=format%2Ccompress&q=75&sharp=10&rect=0%2C647%2C1094%2C547&s=28ea19842fcec2ba9c6bb627bfc88def
GEO:40.8070418;-73.9651341
X-APPLE-STRUCTURED-LOCATION;VALUE=URI;X-ADDRESS=Broadway Presbyterian Church Nursery School 601 W 114th St New York NY NY 10025 United States;X-APPLE-RADIUS=500;X-TITLE=601 W 114th St:geo:-73.9651341,40.8070418
END:VEVENT
END:VCALENDAR