BEGIN:VCALENDAR
VERSION:2.0
PRODID:-//PIANYC - ECPv5.12.4//NONSGML v1.0//EN
CALSCALE:GREGORIAN
METHOD:PUBLISH
X-WR-CALNAME:PIANYC
X-ORIGINAL-URL:https://www.pianyc.net
X-WR-CALDESC:Events for PIANYC
BEGIN:VTIMEZONE
TZID:America/New_York
BEGIN:DAYLIGHT
TZOFFSETFROM:-0500
TZOFFSETTO:-0400
TZNAME:EDT
DTSTART:20220313T070000
END:DAYLIGHT
BEGIN:STANDARD
TZOFFSETFROM:-0400
TZOFFSETTO:-0500
TZNAME:EST
DTSTART:20221106T060000
END:STANDARD
END:VTIMEZONE
BEGIN:VEVENT
DTSTART;TZID=America/New_York:20220730T180000
DTEND;TZID=America/New_York:20220730T193000
DTSTAMP:20260420T052712
CREATED:20220708T015157Z
LAST-MODIFIED:20220708T015157Z
UID:132158-1659204000-1659209400@www.pianyc.net
SUMMARY:Masterworks Series: Horszowski Trio / Smetana & Mendelssohn\, at Bargemusic
DESCRIPTION:Program \n\nSmetana Piano Trio in G minor\, Op. 15\nMendelssohn Piano Trio No. 1 in D minor\, Op. 49\n\nMasterworks Series \nTickets: $35
URL:https://www.pianyc.net/event/masterworks-series-horszowski-trio-smetana-mendelssohn-at-bargemusic/
LOCATION:Bargemusic\, 1 Water St.\, Brooklyn\, NY\, 11201\, United States
CATEGORIES:Live Musical Performance
ATTACH;FMTTYPE=image/jpeg:https://www.bargemusic.org/wp-content/uploads/barge-logo.png
GEO:40.703195;-73.9947228
X-APPLE-STRUCTURED-LOCATION;VALUE=URI;X-ADDRESS=Bargemusic 1 Water St. Brooklyn NY 11201 United States;X-APPLE-RADIUS=500;X-TITLE=1 Water St.:geo:-73.9947228,40.703195
END:VEVENT
END:VCALENDAR