BEGIN:VCALENDAR
VERSION:2.0
PRODID:-//PIANYC - ECPv5.12.4//NONSGML v1.0//EN
CALSCALE:GREGORIAN
METHOD:PUBLISH
X-WR-CALNAME:PIANYC
X-ORIGINAL-URL:https://www.pianyc.net
X-WR-CALDESC:Events for PIANYC
BEGIN:VTIMEZONE
TZID:America/New_York
BEGIN:DAYLIGHT
TZOFFSETFROM:-0500
TZOFFSETTO:-0400
TZNAME:EDT
DTSTART:20220313T070000
END:DAYLIGHT
BEGIN:STANDARD
TZOFFSETFROM:-0400
TZOFFSETTO:-0500
TZNAME:EST
DTSTART:20221106T060000
END:STANDARD
END:VTIMEZONE
BEGIN:VEVENT
DTSTART;TZID=America/New_York:20220710T160000
DTEND;TZID=America/New_York:20220710T173000
DTSTAMP:20260421T083300
CREATED:20220708T014703Z
LAST-MODIFIED:20220708T014703Z
UID:132161-1657468800-1657474200@www.pianyc.net
SUMMARY:Masterworks Series: Beethoven Piano and Violin Sonatas\, Part 1\, at Bargemusic
DESCRIPTION:Program \n\nViolin Sonata No. 1 in D\, Op. 12\nViolin Sonata No. 2 in A\, Op. 12\nViolin Sonata No. 3 in E-flat\, Op. 12\nViolin Sonata No. 5 in F\, Op. 24 (“Spring”)\n\nMasterworks Series: \nBeethoven Piano and Violin Sonatas\, Part 1\nMark Peskanov\, violin; Gerald Robbins\, piano \nTickets: $35
URL:https://www.pianyc.net/event/masterworks-series-beethoven-piano-and-violin-sonatas-part-1-at-bargemusic-2/
LOCATION:Bargemusic\, 1 Water St.\, Brooklyn\, NY\, 11201\, United States
CATEGORIES:Live Musical Performance
ATTACH;FMTTYPE=image/jpeg:https://www.bargemusic.org/wp-content/uploads/barge-logo.png
GEO:40.703195;-73.9947228
X-APPLE-STRUCTURED-LOCATION;VALUE=URI;X-ADDRESS=Bargemusic 1 Water St. Brooklyn NY 11201 United States;X-APPLE-RADIUS=500;X-TITLE=1 Water St.:geo:-73.9947228,40.703195
END:VEVENT
END:VCALENDAR