BEGIN:VCALENDAR
VERSION:2.0
PRODID:-//PIANYC - ECPv5.12.4//NONSGML v1.0//EN
CALSCALE:GREGORIAN
METHOD:PUBLISH
X-WR-CALNAME:PIANYC
X-ORIGINAL-URL:https://www.pianyc.net
X-WR-CALDESC:Events for PIANYC
BEGIN:VTIMEZONE
TZID:America/New_York
BEGIN:DAYLIGHT
TZOFFSETFROM:-0500
TZOFFSETTO:-0400
TZNAME:EDT
DTSTART:20230312T070000
END:DAYLIGHT
BEGIN:STANDARD
TZOFFSETFROM:-0400
TZOFFSETTO:-0500
TZNAME:EST
DTSTART:20231105T060000
END:STANDARD
END:VTIMEZONE
BEGIN:VEVENT
DTSTART;TZID=America/New_York:20230406T193000
DTEND;TZID=America/New_York:20230406T210000
DTSTAMP:20260420T091539
CREATED:20230308T221646Z
LAST-MODIFIED:20230308T221646Z
UID:146485-1680809400-1680814800@www.pianyc.net
SUMMARY:Masayo Ishigure\, Koto\, Bass Koto\, and Shamisen at Carnegie Hall
DESCRIPTION:Performers\nMasayo Ishigure\, Koto\, Bass Koto\, and Shamisen\nZac Zinger\, Shakuhachi\nNathan Koci\, Piano\nNoriko Tsuboi\, Koto and Bass Koto\nMiyabi Koto and Shamisen Ensemble \nProgram\nTADAO SAWAI “Sakura Sakura”\nTADAO SAWAI “Ginga” (“Galaxy”)\nZAC ZINGER “(untitled)”\nHIKARU SAWAI “Gin-yu-ka” (“Minstrel Song”)\nHIDEAKI MATSUMOTO “Chizuru / Whereabouts of the Wind”\nTADAO SAWAI “Flying like a Bird”
URL:https://www.pianyc.net/event/masayo-ishigure-koto-bass-koto-and-shamisen-at-carnegie-hall/
LOCATION:Carnegie Hall\, 881 Seventh Avenue\, New York\, NY\, 10019\, United States
CATEGORIES:Live Musical Performance
ATTACH;FMTTYPE=image/jpeg:https://carnegiehall.imgix.net:443/-/media/CarnegieHall/Images/Events/2022-2023-Rentals/ishigure-masayo.jpg
GEO:40.764938;-73.979897
X-APPLE-STRUCTURED-LOCATION;VALUE=URI;X-ADDRESS=Carnegie Hall 881 Seventh Avenue New York NY 10019 United States;X-APPLE-RADIUS=500;X-TITLE=881 Seventh Avenue:geo:-73.979897,40.764938
END:VEVENT
END:VCALENDAR