BEGIN:VCALENDAR
VERSION:2.0
PRODID:-//PIANYC - ECPv5.12.4//NONSGML v1.0//EN
CALSCALE:GREGORIAN
METHOD:PUBLISH
X-WR-CALNAME:PIANYC
X-ORIGINAL-URL:https://www.pianyc.net
X-WR-CALDESC:Events for PIANYC
BEGIN:VTIMEZONE
TZID:America/New_York
BEGIN:DAYLIGHT
TZOFFSETFROM:-0500
TZOFFSETTO:-0400
TZNAME:EDT
DTSTART:20250309T070000
END:DAYLIGHT
BEGIN:STANDARD
TZOFFSETFROM:-0400
TZOFFSETTO:-0500
TZNAME:EST
DTSTART:20251102T060000
END:STANDARD
END:VTIMEZONE
BEGIN:VEVENT
DTSTART;TZID=America/New_York:20251016T190000
DTEND;TZID=America/New_York:20251016T223000
DTSTAMP:20260422T114141
CREATED:20250916T013001Z
LAST-MODIFIED:20250916T013005Z
UID:187951-1760641200-1760653800@www.pianyc.net
SUMMARY:Martin Bejerano #CubanAmerican at Jazz Gallery (Early and Late Shows)
DESCRIPTION:Martin Bejerano – piano\nEdward Perez – bass\nLudwig Afonso – drums\nSamuel Torres – percussion \nMartin Bejerano’s #CubanAmerican band has recorded a follow-up album to their 2022 Latin GRAMMY nominated album #CubanAmerican\, featuring the Chamber Music America commissioned suite “EL Pinareño”\, a piece dedicated to Martin’s father\, a native of Pinar del Rio\, Cuba. Bejerano’s music encapsulates his many musical influences from growing up with both Cuban and American parents – rock\, pop\, jazz\, Latin music\, and much more – combining them in fresh and inventive ways. The group features some of the top jazz and Latin jazz artists in the world\, including GRAMMY award-winning bassist Edward Perez\, drummer Ludwig Afonso\, and percussionist Samuel Torres. \nLatin GRAMMY nominated pianist Martin Bejerano fronts this internationally acclaimed high-octane modern jazz group. A veteran of Lifetime Achievement GRAMMY Award-winning artist Roy Haynes’s band\, Martin has also performed and/or recorded with such luminaries as Dave Holland\, Christian McBride\, Russell Malone\, Ignacio Berroa\, Dafnis Prieto\, and Jonathan Kreisberg\, including performances at nearly all of the major jazz festivals\, clubs\, and concert halls across the world. He has recorded on over 25 albums\, including his most recent release\, the Latin GRAMMY nominated #CubanAmerican\, the GRAMMY nominated Fountain of Youth (Roy Haynes) and the Latin GRAMMY nominated Ontology (Roxana Amed). Martin is also an established educator\, as head of the jazz piano department at the Frost School of Music\, University of Miami – one of the world’s premier jazz schools. \nThis event is recurring on the following dates:\nThu\, Oct 16 at 07:00 PM\nThu\, Oct 16 at 09:00 PM
URL:https://www.pianyc.net/event/martin-bejerano-cubanamerican-at-jazz-gallery-early-and-late-shows/
LOCATION:The Jazz Gallery\, 1160 Broadway\, New York\, NY\, 10001\, United States
CATEGORIES:Live Musical Performance
ATTACH;FMTTYPE=image/jpeg:https://www.pianyc.net/wp-content/uploads/2025/09/jazz_gallery_1MartinBejeranocreditRafaelPineros-MartinBejerano.jpeg
GEO:40.7446443;-73.9885852
X-APPLE-STRUCTURED-LOCATION;VALUE=URI;X-ADDRESS=The Jazz Gallery 1160 Broadway New York NY 10001 United States;X-APPLE-RADIUS=500;X-TITLE=1160 Broadway:geo:-73.9885852,40.7446443
END:VEVENT
END:VCALENDAR