BEGIN:VCALENDAR
VERSION:2.0
PRODID:-//PIANYC - ECPv5.12.4//NONSGML v1.0//EN
CALSCALE:GREGORIAN
METHOD:PUBLISH
X-WR-CALNAME:PIANYC
X-ORIGINAL-URL:https://www.pianyc.net
X-WR-CALDESC:Events for PIANYC
BEGIN:VTIMEZONE
TZID:America/New_York
BEGIN:DAYLIGHT
TZOFFSETFROM:-0500
TZOFFSETTO:-0400
TZNAME:EDT
DTSTART:20240310T070000
END:DAYLIGHT
BEGIN:STANDARD
TZOFFSETFROM:-0400
TZOFFSETTO:-0500
TZNAME:EST
DTSTART:20241103T060000
END:STANDARD
END:VTIMEZONE
BEGIN:VEVENT
DTSTART;TZID=America/New_York:20240529T140000
DTEND;TZID=America/New_York:20240529T160000
DTSTAMP:20260421T121241
CREATED:20240510T203312Z
LAST-MODIFIED:20240510T203312Z
UID:163656-1716991200-1716998400@www.pianyc.net
SUMMARY:Marlena Malas Memorial Recital with Collaborative Piano\, at Manhattan School of Music
DESCRIPTION:A Memorial for Marlena Malas (1936–2023)\, Longtime Vocal Instructor \nFeaturing remarks and performances by Marlena’s family\, friends\, MSM faculty colleagues\, former students\, and distinguished MSM alumni including a performance from \nMezzo-soprano Susan Graham (MM ’87\, HonDMA ’08) \nFree\, no tickets required. RSVP here
URL:https://www.pianyc.net/event/marlena-malas-memorial-recital-with-collaborative-piano-at-manhattan-school-of-music/
LOCATION:Manhattan School of Music\, 120 Claremont Avenue\, New York\, NY\, 10027\, United States
CATEGORIES:Live Musical Performance
ATTACH;FMTTYPE=image/jpeg:https://www.msmnyc.edu/wp-content/uploads/2024/04/MALAS.jpg-1410x940.jpeg
GEO:40.8123903;-73.9614817
X-APPLE-STRUCTURED-LOCATION;VALUE=URI;X-ADDRESS=Manhattan School of Music 120 Claremont Avenue New York NY 10027 United States;X-APPLE-RADIUS=500;X-TITLE=120 Claremont Avenue:geo:-73.9614817,40.8123903
END:VEVENT
END:VCALENDAR