BEGIN:VCALENDAR
VERSION:2.0
PRODID:-//PIANYC - ECPv5.12.4//NONSGML v1.0//EN
CALSCALE:GREGORIAN
METHOD:PUBLISH
X-WR-CALNAME:PIANYC
X-ORIGINAL-URL:https://www.pianyc.net
X-WR-CALDESC:Events for PIANYC
BEGIN:VTIMEZONE
TZID:America/New_York
BEGIN:DAYLIGHT
TZOFFSETFROM:-0500
TZOFFSETTO:-0400
TZNAME:EDT
DTSTART:20250309T070000
END:DAYLIGHT
BEGIN:STANDARD
TZOFFSETFROM:-0400
TZOFFSETTO:-0500
TZNAME:EST
DTSTART:20251102T060000
END:STANDARD
END:VTIMEZONE
BEGIN:VEVENT
DTSTART;TZID=America/New_York:20250628T160000
DTEND;TZID=America/New_York:20250628T173000
DTSTAMP:20260422T133615
CREATED:20250622T233032Z
LAST-MODIFIED:20250627T012030Z
UID:182394-1751126400-1751131800@www.pianyc.net
SUMMARY:Mark Peskanov and Olga Vinokur: Beethoven and Schubert at Bargemusic
DESCRIPTION:Beethoven Sonata No. 9 in A Major for violin and piano\, Op. 47\, “Kreutzer” \nSchubert Fantasy for violin and piano in C Major\, D. 934 \nwith  \nMark Peskanov\, violin \nOlga Vinokur\, piano
URL:https://www.pianyc.net/event/mark-peskanov-and-olga-vinokur-beethoven-and-schubert-at-bargemusic-2/
LOCATION:Bargemusic\, 1 Water St.\, Brooklyn\, NY\, 11201\, United States
CATEGORIES:Live Musical Performance
ATTACH;FMTTYPE=image/jpeg:https://thesob.org/wp-content/uploads/2015/08/Mark-Peskanov-President-and-Artistic-Director-of-Bargemusic.jpg
GEO:40.703195;-73.9947228
X-APPLE-STRUCTURED-LOCATION;VALUE=URI;X-ADDRESS=Bargemusic 1 Water St. Brooklyn NY 11201 United States;X-APPLE-RADIUS=500;X-TITLE=1 Water St.:geo:-73.9947228,40.703195
END:VEVENT
END:VCALENDAR