BEGIN:VCALENDAR
VERSION:2.0
PRODID:-//PIANYC - ECPv5.12.4//NONSGML v1.0//EN
CALSCALE:GREGORIAN
METHOD:PUBLISH
X-WR-CALNAME:PIANYC
X-ORIGINAL-URL:https://www.pianyc.net
X-WR-CALDESC:Events for PIANYC
BEGIN:VTIMEZONE
TZID:America/New_York
BEGIN:DAYLIGHT
TZOFFSETFROM:-0500
TZOFFSETTO:-0400
TZNAME:EDT
DTSTART:20220313T070000
END:DAYLIGHT
BEGIN:STANDARD
TZOFFSETFROM:-0400
TZOFFSETTO:-0500
TZNAME:EST
DTSTART:20221106T060000
END:STANDARD
END:VTIMEZONE
BEGIN:VEVENT
DTSTART;TZID=America/New_York:20221105T180000
DTEND;TZID=America/New_York:20221105T193000
DTSTAMP:20260421T051042
CREATED:20220812T124538Z
LAST-MODIFIED:20220812T124538Z
UID:134982-1667671200-1667676600@www.pianyc.net
SUMMARY:Mark Peskanov and Gerald Robbin Perform Beethoven at Bargemusic
DESCRIPTION:Program \n\nViolin Sonata No. 6 in A major\, Op. 30\nViolin Sonata No. 7 in C minor\, Op. 30\nViolin Sonata No. 8 in G major\, Op  30\n\nPerformers\nMark Peskanov\, violin\n Gerald Robbins\, piano
URL:https://www.pianyc.net/event/mark-peskanov-and-gerald-robbin-perform-beethoven-at-bargemusic/
LOCATION:Bargemusic\, 1 Water St.\, Brooklyn\, NY\, 11201\, United States
CATEGORIES:Live Musical Performance
ATTACH;FMTTYPE=image/jpeg:https://www.pianyc.net/wp-content/uploads/2022/08/gerald.jpeg
GEO:40.703195;-73.9947228
X-APPLE-STRUCTURED-LOCATION;VALUE=URI;X-ADDRESS=Bargemusic 1 Water St. Brooklyn NY 11201 United States;X-APPLE-RADIUS=500;X-TITLE=1 Water St.:geo:-73.9947228,40.703195
END:VEVENT
END:VCALENDAR