BEGIN:VCALENDAR
VERSION:2.0
PRODID:-//PIANYC - ECPv5.12.4//NONSGML v1.0//EN
CALSCALE:GREGORIAN
METHOD:PUBLISH
X-WR-CALNAME:PIANYC
X-ORIGINAL-URL:https://www.pianyc.net
X-WR-CALDESC:Events for PIANYC
BEGIN:VTIMEZONE
TZID:America/New_York
BEGIN:DAYLIGHT
TZOFFSETFROM:-0500
TZOFFSETTO:-0400
TZNAME:EDT
DTSTART:20250309T070000
END:DAYLIGHT
BEGIN:STANDARD
TZOFFSETFROM:-0400
TZOFFSETTO:-0500
TZNAME:EST
DTSTART:20251102T060000
END:STANDARD
END:VTIMEZONE
BEGIN:VEVENT
DTSTART;TZID=America/New_York:20250315T130000
DTEND;TZID=America/New_York:20250315T143000
DTSTAMP:20260423T073825
CREATED:20250218T214519Z
LAST-MODIFIED:20250218T214519Z
UID:178287-1742043600-1742049000@www.pianyc.net
SUMMARY:MAP Flute Recital\, at Juilliard School
DESCRIPTION:MAP Flute Recital \nPreparatory Division Recital \nVenue\nMorse Hall \nMAP (Music Advancement Program) is a tuition-free Saturday program for intermediate and advanced music students from New York City’s five boroughs and the tristate area who demonstrate a commitment to artistic excellence. The program actively seeks students from diverse backgrounds underrepresented in the classical music field. Through a rigorous curriculum\, performance opportunities\, and guidance from an accomplished faculty\, MAP students gain the necessary skills to pursue advanced music studies while developing their talents as artists\, leaders\, and global citizens. MAP is led by Artistic Director Anthony McGill and is generously supported through an endowed gift in memory of Carl K. Heyman.
URL:https://www.pianyc.net/event/map-flute-recital-at-juilliard-school/
LOCATION:Juilliard School\, 155 W 65th St\, Street Level\, New York\, NY\, 10023\, United States
CATEGORIES:Live Musical Performance
ATTACH;FMTTYPE=image/jpeg:https://www.pianyc.net/wp-content/uploads/2022/10/Juilliard_image_2425_SwTzacgk.jpg
GEO:40.7769059;-73.9800645
X-APPLE-STRUCTURED-LOCATION;VALUE=URI;X-ADDRESS=Juilliard School 155 W 65th St Street Level New York NY 10023 United States;X-APPLE-RADIUS=500;X-TITLE=155 W 65th St\, Street Level:geo:-73.9800645,40.7769059
END:VEVENT
END:VCALENDAR