BEGIN:VCALENDAR
VERSION:2.0
PRODID:-//PIANYC - ECPv5.12.4//NONSGML v1.0//EN
CALSCALE:GREGORIAN
METHOD:PUBLISH
X-WR-CALNAME:PIANYC
X-ORIGINAL-URL:https://www.pianyc.net
X-WR-CALDESC:Events for PIANYC
BEGIN:VTIMEZONE
TZID:America/New_York
BEGIN:DAYLIGHT
TZOFFSETFROM:-0500
TZOFFSETTO:-0400
TZNAME:EDT
DTSTART:20230312T070000
END:DAYLIGHT
BEGIN:STANDARD
TZOFFSETFROM:-0400
TZOFFSETTO:-0500
TZNAME:EST
DTSTART:20231105T060000
END:STANDARD
END:VTIMEZONE
BEGIN:VEVENT
DTSTART;TZID=America/New_York:20230204T130000
DTEND;TZID=America/New_York:20230204T143000
DTSTAMP:20260420T101601
CREATED:20221122T031016Z
LAST-MODIFIED:20221212T192236Z
UID:142450-1675515600-1675521000@www.pianyc.net
SUMMARY:MAP Double Bass and Viola Recital with Collaborative Piano\, at Juilliard School
DESCRIPTION:MAP Double Bass and Viola Recital \nVenue\nMorse Hall
URL:https://www.pianyc.net/event/map-double-bass-and-viola-recital-with-collaborative-piano-at-juilliard-school/
LOCATION:Juilliard School\, 155 W 65th St\, Street Level\, New York\, NY\, 10023\, United States
CATEGORIES:Live Musical Performance
ATTACH;FMTTYPE=image/jpeg:https://www.pianyc.net/wp-content/uploads/2022/10/julliard-schoolll-1.jpeg
GEO:40.7769059;-73.9800645
X-APPLE-STRUCTURED-LOCATION;VALUE=URI;X-ADDRESS=Juilliard School 155 W 65th St Street Level New York NY 10023 United States;X-APPLE-RADIUS=500;X-TITLE=155 W 65th St\, Street Level:geo:-73.9800645,40.7769059
END:VEVENT
END:VCALENDAR