BEGIN:VCALENDAR
VERSION:2.0
PRODID:-//PIANYC - ECPv5.12.4//NONSGML v1.0//EN
CALSCALE:GREGORIAN
METHOD:PUBLISH
X-WR-CALNAME:PIANYC
X-ORIGINAL-URL:https://www.pianyc.net
X-WR-CALDESC:Events for PIANYC
BEGIN:VTIMEZONE
TZID:America/New_York
BEGIN:DAYLIGHT
TZOFFSETFROM:-0500
TZOFFSETTO:-0400
TZNAME:EDT
DTSTART:20250309T070000
END:DAYLIGHT
BEGIN:STANDARD
TZOFFSETFROM:-0400
TZOFFSETTO:-0500
TZNAME:EST
DTSTART:20251102T060000
END:STANDARD
END:VTIMEZONE
BEGIN:VEVENT
DTSTART;TZID=America/New_York:20251015T193000
DTEND;TZID=America/New_York:20251015T223000
DTSTAMP:20260422T160140
CREATED:20250917T160908Z
LAST-MODIFIED:20250928T153017Z
UID:188130-1760556600-1760567400@www.pianyc.net
SUMMARY:Manuel Valera Quartet at The Django (Early and Late Shows)
DESCRIPTION:Born and raised in Havana\, Grammy nominated\, Guggenheim Fellow\, pianist and composer Manuel Valera is one of the busiest musicians on the modern jazz scene. He’s garnered national reviews and lent his talents to artists like Arturo Sandoval\, Paquito D’Rivera\, Brian Lynch\, Dafnis Prieto\, Jazz at Lincoln Center Orchestra\, Jeff “Tain” Watts\, Joshua Bell and many others. Valera has recorded 13 albums as a bandleader with touring projects ranging from his Grammy nominated group New Cuban Express to his modern contemporary trio and solo piano. \nThis event is recurring on the following dates:\nWed\, Oct 15 at 07:30 PM\nWed\, Oct 15 at 09:00 PM
URL:https://www.pianyc.net/event/manuel-valera-quartet-at-the-django-early-and-late-shows/
LOCATION:The Django\, The Roxy Hotel\, Cellar Level\, 2 6th Ave\, New York\, NY\, 10013\, United States
CATEGORIES:Live Musical Performance
ATTACH;FMTTYPE=image/jpeg:https://www.pianyc.net/wp-content/uploads/2025/09/django_manuel-900x900-1.jpg
GEO:40.719404;-74.004902
X-APPLE-STRUCTURED-LOCATION;VALUE=URI;X-ADDRESS=The Django The Roxy Hotel Cellar Level 2 6th Ave New York NY 10013 United States;X-APPLE-RADIUS=500;X-TITLE=The Roxy Hotel\, Cellar Level\, 2 6th Ave:geo:-74.004902,40.719404
END:VEVENT
END:VCALENDAR