BEGIN:VCALENDAR
VERSION:2.0
PRODID:-//PIANYC - ECPv5.12.4//NONSGML v1.0//EN
CALSCALE:GREGORIAN
METHOD:PUBLISH
X-WR-CALNAME:PIANYC
X-ORIGINAL-URL:https://www.pianyc.net
X-WR-CALDESC:Events for PIANYC
BEGIN:VTIMEZONE
TZID:America/New_York
BEGIN:DAYLIGHT
TZOFFSETFROM:-0500
TZOFFSETTO:-0400
TZNAME:EDT
DTSTART:20220313T070000
END:DAYLIGHT
BEGIN:STANDARD
TZOFFSETFROM:-0400
TZOFFSETTO:-0500
TZNAME:EST
DTSTART:20221106T060000
END:STANDARD
END:VTIMEZONE
BEGIN:VEVENT
DTSTART;TZID=America/New_York:20221120T123000
DTEND;TZID=America/New_York:20221120T213000
DTSTAMP:20260421T082907
CREATED:20221108T211345Z
LAST-MODIFIED:20221108T211813Z
UID:141763-1668947400-1668979800@www.pianyc.net
SUMMARY:Mannes Sunday Graduation Recitals
DESCRIPTION:Jingyang Dong (pictured)\, MM Piano\, 12:30pm\, Ernst C. Stiefel Concert Hall\nYuren Zhang\, BM Violin\, 3:00pm\, Ernst C. Stiefel Concert Hall\nYifeng Li\, MM Voice\, 5:30pm\, Ernst C. Stiefel Concert Hall\nRuochen Xi\, MM Piano\, 8:00pm\, Ernst C. Stiefel Concert Hall   \nJoin for recitals by graduating students from Mannes School of Music\, the School of Jazz and Contemporary Music\, and the College of Performing Arts. See the schedule below for more information!  \nVenues: \nErnst C. Stiefel Concert Hall –  55 West 13th Street\, room 400\nGlassbox Theater –  55 West 13th Street\, room 100\nBaisley Powell Elebash Recital Hall – 55 West 13th Street\, room 750\nThe Auditorium –  66 West 12th Street\, room A106\nJazz Performance Space – 55 West 13th Street\, room 531 \nDoors open 10-15 minutes before the performance starts and latecomers are not guaranteed access to the recital.
URL:https://www.pianyc.net/event/mannes-sunday-graduation-recitals/
LOCATION:Arnhold Hall at the New School\, 55 West 13th Street\, New York\, NY\, 10011\, United States
CATEGORIES:Live Musical Performance
ATTACH;FMTTYPE=image/jpeg:https://www.starworksmusic.com/uploads/1/3/1/4/13144109/img-82011-copy_orig.jpg
GEO:40.7365669;-73.9964966
X-APPLE-STRUCTURED-LOCATION;VALUE=URI;X-ADDRESS=Arnhold Hall at the New School 55 West 13th Street New York NY 10011 United States;X-APPLE-RADIUS=500;X-TITLE=55 West 13th Street:geo:-73.9964966,40.7365669
END:VEVENT
END:VCALENDAR