BEGIN:VCALENDAR
VERSION:2.0
PRODID:-//PIANYC - ECPv5.12.4//NONSGML v1.0//EN
CALSCALE:GREGORIAN
METHOD:PUBLISH
X-WR-CALNAME:PIANYC
X-ORIGINAL-URL:https://www.pianyc.net
X-WR-CALDESC:Events for PIANYC
BEGIN:VTIMEZONE
TZID:America/New_York
BEGIN:DAYLIGHT
TZOFFSETFROM:-0500
TZOFFSETTO:-0400
TZNAME:EDT
DTSTART:20220313T070000
END:DAYLIGHT
BEGIN:STANDARD
TZOFFSETFROM:-0400
TZOFFSETTO:-0500
TZNAME:EST
DTSTART:20221106T060000
END:STANDARD
END:VTIMEZONE
BEGIN:VEVENT
DTSTART;TZID=America/New_York:20221206T120000
DTEND;TZID=America/New_York:20221206T140000
DTSTAMP:20260420T083143
CREATED:20221119T042332Z
LAST-MODIFIED:20221119T042332Z
UID:142131-1670328000-1670335200@www.pianyc.net
SUMMARY:Mannes Student Recital: Lunchtime Concert Series
DESCRIPTION:Lunchtime Concert Series\nErnst C. Stiefel Concert Hall at Arnhold Hall \nPresented by the Mannes School of Music and the School of Jazz and Contemporary Music\, this lunchtime concert series takes place on afternoons throughout the academic year and gives current College of Performing Arts students an opportunity to perform an informal concert for their colleagues and community. \nRepertoire:\nPerformer/Composer Small Ensemble World Premiere\nClaude Debussy\, Petite Suite\nJohannes Brahms\, Sonata in D minor for violin and piano\, op.108\nFerdinando Carulli\, 3 Grand Trios for Flute\, Violin\, and Guitar: No. 1\nZoltan Kodály\, Serenade for 2 Violins and Viola\nGabriel Fauré\, Dolly Suite\nRobert Schumann\, Violin Sonata No. 1 in A minor \nPerformers:\nSungyoung Choi\, violin; Jiachen Tang\, piano\nJingxiao Zhang\, piano; Wenchang Ying\, piano\nZeyu Yuan\, violin; Yiqing Yao\, piano\nElias Ludlam\, flute; Helen Wyrick\, guitar; Yihung Wang\, piano\nEsther Song\, violin; Minju Choo\, violin; Alexis Mitrushi\, viola\nYuru Jin\, piano; Weiziashi Sun\, piano\nChenxin Wang\, violin; John Gibb\, piano \nPresented by the College of Performing Arts at The New School.
URL:https://www.pianyc.net/event/mannes-student-recital-lunchtime-concert-series/
LOCATION:Arnhold Hall at the New School\, 55 West 13th Street\, New York\, NY\, 10011\, United States
CATEGORIES:Live Musical Performance
ATTACH;FMTTYPE=image/jpeg:https://d3m889aznlr23d.cloudfront.net/img/events/id/458/458546402/assets/e8bb90d1e989d70147e633258b80f0ea.Fall-22-1920-x-1080-px-1-.jpg
GEO:40.7365669;-73.9964966
X-APPLE-STRUCTURED-LOCATION;VALUE=URI;X-ADDRESS=Arnhold Hall at the New School 55 West 13th Street New York NY 10011 United States;X-APPLE-RADIUS=500;X-TITLE=55 West 13th Street:geo:-73.9964966,40.7365669
END:VEVENT
END:VCALENDAR