BEGIN:VCALENDAR
VERSION:2.0
PRODID:-//PIANYC - ECPv5.12.4//NONSGML v1.0//EN
CALSCALE:GREGORIAN
METHOD:PUBLISH
X-WR-CALNAME:PIANYC
X-ORIGINAL-URL:https://www.pianyc.net
X-WR-CALDESC:Events for PIANYC
BEGIN:VTIMEZONE
TZID:America/New_York
BEGIN:DAYLIGHT
TZOFFSETFROM:-0500
TZOFFSETTO:-0400
TZNAME:EDT
DTSTART:20230312T070000
END:DAYLIGHT
BEGIN:STANDARD
TZOFFSETFROM:-0400
TZOFFSETTO:-0500
TZNAME:EST
DTSTART:20231105T060000
END:STANDARD
END:VTIMEZONE
BEGIN:VEVENT
DTSTART;TZID=America/New_York:20230422T150000
DTEND;TZID=America/New_York:20230422T163000
DTSTAMP:20260420T114836
CREATED:20230422T012259Z
LAST-MODIFIED:20230422T012259Z
UID:148763-1682175600-1682181000@www.pianyc.net
SUMMARY:Mannes Student Recital: Ilya Ramlav\, PDPL Piano
DESCRIPTION:Ilya Ramlav\, PDPL Piano \nTo attend this event\, it’s necessary to register here.
URL:https://www.pianyc.net/event/mannes-student-recital-ilya-ramlav-pdpl-piano/
LOCATION:Alvin Johnson/J.M. Kaplan Hall\, 66 West 12th Street\, New York\, NY\, 10011\, United States
CATEGORIES:Live Musical Performance
ATTACH;FMTTYPE=image/jpeg:https://collegegazette.com/wp-content/uploads/2021/09/Mannes-School-of-Music-625x420.jpg
GEO:40.7355009;-73.9971383
X-APPLE-STRUCTURED-LOCATION;VALUE=URI;X-ADDRESS=Alvin Johnson/J.M. Kaplan Hall 66 West 12th Street New York NY 10011 United States;X-APPLE-RADIUS=500;X-TITLE=66 West 12th Street:geo:-73.9971383,40.7355009
END:VEVENT
END:VCALENDAR