BEGIN:VCALENDAR
VERSION:2.0
PRODID:-//PIANYC - ECPv5.12.4//NONSGML v1.0//EN
CALSCALE:GREGORIAN
METHOD:PUBLISH
X-WR-CALNAME:PIANYC
X-ORIGINAL-URL:https://www.pianyc.net
X-WR-CALDESC:Events for PIANYC
BEGIN:VTIMEZONE
TZID:America/New_York
BEGIN:DAYLIGHT
TZOFFSETFROM:-0500
TZOFFSETTO:-0400
TZNAME:EDT
DTSTART:20220313T070000
END:DAYLIGHT
BEGIN:STANDARD
TZOFFSETFROM:-0400
TZOFFSETTO:-0500
TZNAME:EST
DTSTART:20221106T060000
END:STANDARD
END:VTIMEZONE
BEGIN:VEVENT
DTSTART;TZID=America/New_York:20221204T190000
DTEND;TZID=America/New_York:20221204T210000
DTSTAMP:20260421T083052
CREATED:20221119T042116Z
LAST-MODIFIED:20221119T042436Z
UID:142128-1670180400-1670187600@www.pianyc.net
SUMMARY:Mannes Student Recital\, Chopin: Poet and Virtuoso
DESCRIPTION:Mannes Sounds Piano Cantabile: “Chopin: Poet and Virtuoso”\nErnst C. Stiefel Concert Hall \nCurated by Yuri Kim \nThe Piano Cantabile Series is part of the Mannes Sounds Festival which was founded in 1999 by Pavlina Dokovska\, chair of the Mannes Piano department. The festival presents more than 20 concerts annually performed by young artists from Mannes\, the School of Jazz and Contemporary Music and the School of Drama as well as master classes and lectures by distinguished faculty members and renowned guest artists and is one of the outstanding components of Mannes’ performance program. The events are held at various prestigious New York City concert venues and cultural institutions.  \nProgram to be announced. \nPresented by the College of Performing Arts’s Mannes Sounds Festival.
URL:https://www.pianyc.net/event/mannes-student-recital-chopin-poet-and-virtuoso/
LOCATION:Arnhold Hall at the New School\, 55 West 13th Street\, New York\, NY\, 10011\, United States
CATEGORIES:Live Musical Performance
ATTACH;FMTTYPE=image/jpeg:https://d3m889aznlr23d.cloudfront.net/img/events/id/458/458513384/assets/da531ffb5b0659707940346f85ab3205.MannesSounds2022-23-1920x1080-2-.jpg
GEO:40.7365669;-73.9964966
X-APPLE-STRUCTURED-LOCATION;VALUE=URI;X-ADDRESS=Arnhold Hall at the New School 55 West 13th Street New York NY 10011 United States;X-APPLE-RADIUS=500;X-TITLE=55 West 13th Street:geo:-73.9964966,40.7365669
END:VEVENT
END:VCALENDAR