BEGIN:VCALENDAR
VERSION:2.0
PRODID:-//PIANYC - ECPv5.12.4//NONSGML v1.0//EN
CALSCALE:GREGORIAN
METHOD:PUBLISH
X-WR-CALNAME:PIANYC
X-ORIGINAL-URL:https://www.pianyc.net
X-WR-CALDESC:Events for PIANYC
BEGIN:VTIMEZONE
TZID:America/New_York
BEGIN:DAYLIGHT
TZOFFSETFROM:-0500
TZOFFSETTO:-0400
TZNAME:EDT
DTSTART:20240310T070000
END:DAYLIGHT
BEGIN:STANDARD
TZOFFSETFROM:-0400
TZOFFSETTO:-0500
TZNAME:EST
DTSTART:20241103T060000
END:STANDARD
END:VTIMEZONE
BEGIN:VEVENT
DTSTART;TZID=America/New_York:20241208T193000
DTEND;TZID=America/New_York:20241208T213000
DTSTAMP:20260420T052819
CREATED:20241006T230811Z
LAST-MODIFIED:20241006T230953Z
UID:172518-1733686200-1733693400@www.pianyc.net
SUMMARY:Mannes Sounds Piano Cantabile: Visionary Last Works\, at the New School
DESCRIPTION:Free but you have to register here. \nMannes Sounds Piano Cantabile: Final Thoughts: Visionary Last Works \nCurated by John Novacek\, Mannes School of Music faculty \nMusic by Beethoven\, Chopin\, Brahms\, Liszt\, Fauré\, and Debussy \nThe Piano Cantabile Series is part of the Mannes Sounds Festival which was founded in 1999 by Pavlina Dokovska\, chair of the Mannes Piano department. The festival presents more than 20 concerts annually performed by young artists from Mannes\, the School of Jazz and Contemporary Music and the School of Drama as well as master classes and lectures by distinguished faculty members and renowned guest artists and is one of the outstanding components of Mannes’ performance program. The events are held at various prestigious New York City concert venues and cultural institutions.
URL:https://www.pianyc.net/event/mannes-sounds-piano-cantabile-visionary-last-works-at-the-new-school/
LOCATION:Arnhold Hall at the New School\, 55 West 13th Street\, New York\, NY\, 10011\, United States
CATEGORIES:Live Musical Performance
ATTACH;FMTTYPE=image/jpeg:https://www.pianyc.net/wp-content/uploads/2024/10/mannes_sounds_2024.jpg
GEO:40.7365669;-73.9964966
X-APPLE-STRUCTURED-LOCATION;VALUE=URI;X-ADDRESS=Arnhold Hall at the New School 55 West 13th Street New York NY 10011 United States;X-APPLE-RADIUS=500;X-TITLE=55 West 13th Street:geo:-73.9964966,40.7365669
END:VEVENT
END:VCALENDAR