BEGIN:VCALENDAR
VERSION:2.0
PRODID:-//PIANYC - ECPv5.12.4//NONSGML v1.0//EN
CALSCALE:GREGORIAN
METHOD:PUBLISH
X-WR-CALNAME:PIANYC
X-ORIGINAL-URL:https://www.pianyc.net
X-WR-CALDESC:Events for PIANYC
BEGIN:VTIMEZONE
TZID:America/New_York
BEGIN:DAYLIGHT
TZOFFSETFROM:-0500
TZOFFSETTO:-0400
TZNAME:EDT
DTSTART:20230312T070000
END:DAYLIGHT
BEGIN:STANDARD
TZOFFSETFROM:-0400
TZOFFSETTO:-0500
TZNAME:EST
DTSTART:20231105T060000
END:STANDARD
END:VTIMEZONE
BEGIN:VEVENT
DTSTART;TZID=America/New_York:20230209T190000
DTEND;TZID=America/New_York:20230209T210000
DTSTAMP:20260420T091449
CREATED:20230205T213855Z
LAST-MODIFIED:20230205T213855Z
UID:145835-1675969200-1675976400@www.pianyc.net
SUMMARY:Mannes Sounds Piano Cantabile: The Music of Julius Hemphill
DESCRIPTION:Mannes Sounds Piano Cantabile: One Atmosphere: The Music of Julius Hemphill\nErnst C. Stiefel Concert Hall at Arnhold Hall \nCurated by Ursula Oppens and Marty Ehrlich \nThe Piano Cantabile Series is part of the Mannes Sounds Festival which was founded in 1999 by Pavlina Dokovska\, chair of the Mannes Piano department. The festival presents more than 20 concerts annually performed by young artists from Mannes\, the School of Jazz and Contemporary Music and the School of Drama as well as master classes and lectures by distinguished faculty members and renowned guest artists and is one of the outstanding components of Mannes’ performance program. The events are held at various prestigious New York City concert venues and cultural institutions.  \nProgram to be announced.
URL:https://www.pianyc.net/event/mannes-sounds-piano-cantabile-the-music-of-julius-hemphill/
LOCATION:Arnhold Hall at the New School\, 55 West 13th Street\, New York\, NY\, 10011\, United States
CATEGORIES:Live Musical Performance
ATTACH;FMTTYPE=image/jpeg:https://d3m889aznlr23d.cloudfront.net/img/events/id/458/458618219/assets/52fb76f9c317cd2a8579648574c3aeaf.MSF-cover.jpeg
GEO:40.7365669;-73.9964966
X-APPLE-STRUCTURED-LOCATION;VALUE=URI;X-ADDRESS=Arnhold Hall at the New School 55 West 13th Street New York NY 10011 United States;X-APPLE-RADIUS=500;X-TITLE=55 West 13th Street:geo:-73.9964966,40.7365669
END:VEVENT
END:VCALENDAR