BEGIN:VCALENDAR
VERSION:2.0
PRODID:-//PIANYC - ECPv5.12.4//NONSGML v1.0//EN
CALSCALE:GREGORIAN
METHOD:PUBLISH
X-WR-CALNAME:PIANYC
X-ORIGINAL-URL:https://www.pianyc.net
X-WR-CALDESC:Events for PIANYC
BEGIN:VTIMEZONE
TZID:America/New_York
BEGIN:DAYLIGHT
TZOFFSETFROM:-0500
TZOFFSETTO:-0400
TZNAME:EDT
DTSTART:20230312T070000
END:DAYLIGHT
BEGIN:STANDARD
TZOFFSETFROM:-0400
TZOFFSETTO:-0500
TZNAME:EST
DTSTART:20231105T060000
END:STANDARD
END:VTIMEZONE
BEGIN:VEVENT
DTSTART;TZID=America/New_York:20231201T190000
DTEND;TZID=America/New_York:20231201T210000
DTSTAMP:20260422T062715
CREATED:20230928T181555Z
LAST-MODIFIED:20230928T181555Z
UID:155393-1701457200-1701464400@www.pianyc.net
SUMMARY:Mannes Sounds Piano Cantabile: Something Borrowed at The New School
DESCRIPTION:Ernst C. Stiefel Concert Hall at Arnhold Hall \n“Something Borrowed” – Transcriptions of Jazz\, Pop\, and World Music\, curated by Blair McMillen \nFeaturing piano arrangements of music by: Dave Brubeck\, Queen\, Mary Lou Williams\, Sting\, George Gershwin\, Coldplay\, and Philip Glass. \nThe Piano Cantabile Series is part of the Mannes Sounds Festival which was founded in 1999 by Pavlina Dokovska\, chair of the Mannes Piano department. The festival presents more than 20 concerts annually performed by young artists from Mannes\, the School of Jazz and Contemporary Music and the School of Drama as well as master classes and lectures by distinguished faculty members and renowned guest artists and is one of the outstanding components of Mannes’ performance program. The events are held at various prestigious New York City concert venues and cultural institutions.
URL:https://www.pianyc.net/event/mannes-sounds-piano-cantabile-something-borrowed-at-the-new-school/
LOCATION:Arnhold Hall at the New School\, 55 West 13th Street\, New York\, NY\, 10011\, United States
CATEGORIES:Live Musical Performance
ATTACH;FMTTYPE=image/jpeg:https://d3m889aznlr23d.cloudfront.net/img/events/id/458/458787010/assets/7b4dc242e608a51cb72a79a17f62aee1.Mannes-Sounds-web-event-2023-24.jpg
GEO:40.7365669;-73.9964966
X-APPLE-STRUCTURED-LOCATION;VALUE=URI;X-ADDRESS=Arnhold Hall at the New School 55 West 13th Street New York NY 10011 United States;X-APPLE-RADIUS=500;X-TITLE=55 West 13th Street:geo:-73.9964966,40.7365669
END:VEVENT
END:VCALENDAR