BEGIN:VCALENDAR
VERSION:2.0
PRODID:-//PIANYC - ECPv5.12.4//NONSGML v1.0//EN
CALSCALE:GREGORIAN
METHOD:PUBLISH
X-WR-CALNAME:PIANYC
X-ORIGINAL-URL:https://www.pianyc.net
X-WR-CALDESC:Events for PIANYC
BEGIN:VTIMEZONE
TZID:America/New_York
BEGIN:DAYLIGHT
TZOFFSETFROM:-0500
TZOFFSETTO:-0400
TZNAME:EDT
DTSTART:20240310T070000
END:DAYLIGHT
BEGIN:STANDARD
TZOFFSETFROM:-0400
TZOFFSETTO:-0500
TZNAME:EST
DTSTART:20241103T060000
END:STANDARD
END:VTIMEZONE
BEGIN:VEVENT
DTSTART;TZID=America/New_York:20241113T190000
DTEND;TZID=America/New_York:20241113T210000
DTSTAMP:20260420T103416
CREATED:20241006T224700Z
LAST-MODIFIED:20241006T225325Z
UID:172510-1731524400-1731531600@www.pianyc.net
SUMMARY:Mannes School Donor Appreciation Concert: An Evening of Piano Preludes\, at Steinway Hall
DESCRIPTION:PIANYC note: This event may be exclusive to donors to the Mannes School of Music at the New School. Please check the contact information below to find out more. \nMannes Donor Appreciation Concert: An Evening of Piano Preludes at Steinway Hall \nThis donor appreciation concert at the acclaimed Steinway Hall features music by Beethoven\, Hummel\, Chopin\, Scriabin\, Szymanowski\, Rachmaninoff\, Debussy\, Messiaen\, Shostakovich\, Satie\, Ginastera\, Sierra\, Kapustin and Auerbach. \nMannes and the Mannes Sounds Festival are proudly supported by the generosity of people like you. To give or to learn about giving opportunities\, please contact Development & Alumni Engagement by phone or email at (212) 229-5662 or development@newschool.edu.
URL:https://www.pianyc.net/event/mannes-school-donor-appreciation-concert-an-evening-of-piano-preludes-at-steinway-hall/
LOCATION:Steinway Hall\, 1133 6th Avenue\, New York\, NY\, 10036\, United States
CATEGORIES:Live Musical Performance
ATTACH;FMTTYPE=image/jpeg:https://www.pianyc.net/wp-content/uploads/2024/10/mannes_sounds_2024.jpg
GEO:40.7560149;-73.9838279
X-APPLE-STRUCTURED-LOCATION;VALUE=URI;X-ADDRESS=Steinway Hall 1133 6th Avenue New York NY 10036 United States;X-APPLE-RADIUS=500;X-TITLE=1133 6th Avenue:geo:-73.9838279,40.7560149
END:VEVENT
END:VCALENDAR