BEGIN:VCALENDAR
VERSION:2.0
PRODID:-//PIANYC - ECPv5.12.4//NONSGML v1.0//EN
CALSCALE:GREGORIAN
METHOD:PUBLISH
X-WR-CALNAME:PIANYC
X-ORIGINAL-URL:https://www.pianyc.net
X-WR-CALDESC:Events for PIANYC
BEGIN:VTIMEZONE
TZID:America/New_York
BEGIN:DAYLIGHT
TZOFFSETFROM:-0500
TZOFFSETTO:-0400
TZNAME:EDT
DTSTART:20260308T070000
END:DAYLIGHT
BEGIN:STANDARD
TZOFFSETFROM:-0400
TZOFFSETTO:-0500
TZNAME:EST
DTSTART:20261101T060000
END:STANDARD
END:VTIMEZONE
BEGIN:VEVENT
DTSTART;TZID=America/New_York:20260207T190000
DTEND;TZID=America/New_York:20260207T190000
DTSTAMP:20260419T114618
CREATED:20260126T025347Z
LAST-MODIFIED:20260131T185111Z
UID:196067-1770490800-1770490800@www.pianyc.net
SUMMARY:Manhattan School of Music Student Recital: André Ferguson\, countertenor - classical voice - André Ferguson\, Countertenor with Collaborative Piano
DESCRIPTION:Manhattan School of Music Student Recital \nPerformer(s)\nAndré Ferguson\, Countertenor – Classical Voice \nRecital Hall\nGreenfield Hall
URL:https://www.pianyc.net/event/manhattan-school-of-music-student-recital-yasmin-azad-classical-voice-soprano-with-collaborative-piano/
LOCATION:Manhattan School of Music\, 120 Claremont Avenue\, New York\, NY\, 10027\, United States
CATEGORIES:Live Musical Performance
ATTACH;FMTTYPE=image/jpeg:https://encrypted-tbn0.gstatic.com/images?q=tbn:ANd9GcQVZ0t1gj7sHEg-SG_1ovfiApzQUswAthPNew&s
GEO:40.8123903;-73.9614817
X-APPLE-STRUCTURED-LOCATION;VALUE=URI;X-ADDRESS=Manhattan School of Music 120 Claremont Avenue New York NY 10027 United States;X-APPLE-RADIUS=500;X-TITLE=120 Claremont Avenue:geo:-73.9614817,40.8123903
END:VEVENT
END:VCALENDAR