BEGIN:VCALENDAR
VERSION:2.0
PRODID:-//PIANYC - ECPv5.12.4//NONSGML v1.0//EN
CALSCALE:GREGORIAN
METHOD:PUBLISH
X-WR-CALNAME:PIANYC
X-ORIGINAL-URL:https://www.pianyc.net
X-WR-CALDESC:Events for PIANYC
BEGIN:VTIMEZONE
TZID:America/New_York
BEGIN:DAYLIGHT
TZOFFSETFROM:-0500
TZOFFSETTO:-0400
TZNAME:EDT
DTSTART:20260308T070000
END:DAYLIGHT
BEGIN:STANDARD
TZOFFSETFROM:-0400
TZOFFSETTO:-0500
TZNAME:EST
DTSTART:20261101T060000
END:STANDARD
END:VTIMEZONE
BEGIN:VEVENT
DTSTART;TZID=America/New_York:20260412T160000
DTEND;TZID=America/New_York:20260412T160000
DTSTAMP:20260421T115340
CREATED:20260329T215025Z
LAST-MODIFIED:20260406T025308Z
UID:199568-1776009600-1776009600@www.pianyc.net
SUMMARY:Manhattan School of Music Student Recital: Taylor Stephens\, Classical Voice - Mezzo Soprano with Collaborative Piano
DESCRIPTION:Manhattan School of Music Student Recital \nPerformer(s)\nTaylor Stephens – Classical Voice \nTaylor Stephens is a mezzo-soprano from New York City with a bachelor’s from Oklahoma City University\, studying under Jeffrey Picon and Joseph Fitzgerald. Her performance venture in the inaugural year of OperArezzo in Tuscany\, Italy included performing in scene work\, and Painted Sky Opera in Oklahoma City as a company chorus member. Her work focuses on bringing the mezzo to the front of the stage to showcase what beautiful art can be made by these voices. \nRecital Hall\nMikowsky Recital Hall
URL:https://www.pianyc.net/event/manhattan-school-of-music-student-recital-taylor-stephens-classical-voice-mezzo-soprano-with-collaborative-piano-2/
LOCATION:Manhattan School of Music\, 120 Claremont Avenue\, New York\, NY\, 10027\, United States
CATEGORIES:Live Musical Performance
ATTACH;FMTTYPE=image/jpeg:https://encrypted-tbn0.gstatic.com/images?q=tbn:ANd9GcSTSqhyZ--hHvVOj3XN2JqL2mWZA0AiI0MMog&s
GEO:40.8123903;-73.9614817
X-APPLE-STRUCTURED-LOCATION;VALUE=URI;X-ADDRESS=Manhattan School of Music 120 Claremont Avenue New York NY 10027 United States;X-APPLE-RADIUS=500;X-TITLE=120 Claremont Avenue:geo:-73.9614817,40.8123903
END:VEVENT
END:VCALENDAR