BEGIN:VCALENDAR
VERSION:2.0
PRODID:-//PIANYC - ECPv5.12.4//NONSGML v1.0//EN
CALSCALE:GREGORIAN
METHOD:PUBLISH
X-WR-CALNAME:PIANYC
X-ORIGINAL-URL:https://www.pianyc.net
X-WR-CALDESC:Events for PIANYC
BEGIN:VTIMEZONE
TZID:America/New_York
BEGIN:DAYLIGHT
TZOFFSETFROM:-0500
TZOFFSETTO:-0400
TZNAME:EDT
DTSTART:20240310T070000
END:DAYLIGHT
BEGIN:STANDARD
TZOFFSETFROM:-0400
TZOFFSETTO:-0500
TZNAME:EST
DTSTART:20241103T060000
END:STANDARD
END:VTIMEZONE
BEGIN:VEVENT
DTSTART;TZID=America/New_York:20241215T190000
DTEND;TZID=America/New_York:20241215T190000
DTSTAMP:20260419T104511
CREATED:20241215T212857Z
LAST-MODIFIED:20241215T212857Z
UID:175486-1734289200-1734289200@www.pianyc.net
SUMMARY:Manhattan School of Music Student Recital: Nathaniel Page\, Classical French Horn with Collaborative Piano
DESCRIPTION:Manhattan School of Music student recital with Manhattan School of Music Student Recital: Yinan Wu\, Classical Piano
URL:https://www.pianyc.net/event/manhattan-school-of-music-student-recital-nathaniel-page-classical-french-horn-with-collaborative-piano/
LOCATION:Manhattan School of Music\, 120 Claremont Avenue\, New York\, NY\, 10027\, United States
CATEGORIES:Live Musical Performance
ATTACH;FMTTYPE=image/jpeg:https://www.pianyc.net/wp-content/uploads/2017/12/manhattan-school.jpg
GEO:40.8123903;-73.9614817
X-APPLE-STRUCTURED-LOCATION;VALUE=URI;X-ADDRESS=Manhattan School of Music 120 Claremont Avenue New York NY 10027 United States;X-APPLE-RADIUS=500;X-TITLE=120 Claremont Avenue:geo:-73.9614817,40.8123903
END:VEVENT
END:VCALENDAR