BEGIN:VCALENDAR
VERSION:2.0
PRODID:-//PIANYC - ECPv5.12.4//NONSGML v1.0//EN
CALSCALE:GREGORIAN
METHOD:PUBLISH
X-WR-CALNAME:PIANYC
X-ORIGINAL-URL:https://www.pianyc.net
X-WR-CALDESC:Events for PIANYC
BEGIN:VTIMEZONE
TZID:America/New_York
BEGIN:DAYLIGHT
TZOFFSETFROM:-0500
TZOFFSETTO:-0400
TZNAME:EDT
DTSTART:20260308T070000
END:DAYLIGHT
BEGIN:STANDARD
TZOFFSETFROM:-0400
TZOFFSETTO:-0500
TZNAME:EST
DTSTART:20261101T060000
END:STANDARD
END:VTIMEZONE
BEGIN:VEVENT
DTSTART;TZID=America/New_York:20260416T200000
DTEND;TZID=America/New_York:20260416T200000
DTSTAMP:20260420T102623
CREATED:20260329T215125Z
LAST-MODIFIED:20260406T043547Z
UID:199588-1776369600-1776369600@www.pianyc.net
SUMMARY:Manhattan School of Music Student Recital: Matthew So\, Classical Bassoon with Collaborative Piano
DESCRIPTION:Manhattan School of Music Student Recital \nPerformer(s)\nMatthew So\, Classical Bassoon \nBorn in Hong Kong\, Matthew began playing the bassoon at 13. Matthew currently studies in New York City\, where he is pursuing his Master of Music degree for bassoon performance at Manhattan School of Music studying with William Short. Matthew obtained his Bachelor of Music at McGill University where he studied with Stéphane Lévesque. Matthew was an apprentice for Canada’s National Academy Orchestra in Toronto in 2023 and 2024. \nRecital Hall\nMiller Recital Hall
URL:https://www.pianyc.net/event/manhattan-school-of-music-student-recital-matthew-so-classical-bassoon-with-collaborative-piano-2/
LOCATION:Manhattan School of Music\, 120 Claremont Avenue\, New York\, NY\, 10027\, United States
CATEGORIES:Live Musical Performance
ATTACH;FMTTYPE=image/jpeg:https://www.nromusic.org/wp-content/uploads/2025/03/Matthew-So.jpg
GEO:40.8123903;-73.9614817
X-APPLE-STRUCTURED-LOCATION;VALUE=URI;X-ADDRESS=Manhattan School of Music 120 Claremont Avenue New York NY 10027 United States;X-APPLE-RADIUS=500;X-TITLE=120 Claremont Avenue:geo:-73.9614817,40.8123903
END:VEVENT
END:VCALENDAR