BEGIN:VCALENDAR
VERSION:2.0
PRODID:-//PIANYC - ECPv5.12.4//NONSGML v1.0//EN
CALSCALE:GREGORIAN
METHOD:PUBLISH
X-WR-CALNAME:PIANYC
X-ORIGINAL-URL:https://www.pianyc.net
X-WR-CALDESC:Events for PIANYC
BEGIN:VTIMEZONE
TZID:America/New_York
BEGIN:DAYLIGHT
TZOFFSETFROM:-0500
TZOFFSETTO:-0400
TZNAME:EDT
DTSTART:20260308T070000
END:DAYLIGHT
BEGIN:STANDARD
TZOFFSETFROM:-0400
TZOFFSETTO:-0500
TZNAME:EST
DTSTART:20261101T060000
END:STANDARD
END:VTIMEZONE
BEGIN:VEVENT
DTSTART;TZID=America/New_York:20260412T190000
DTEND;TZID=America/New_York:20260412T190000
DTSTAMP:20260423T140004
CREATED:20260316T003948Z
LAST-MODIFIED:20260321T152154Z
UID:198512-1776020400-1776020400@www.pianyc.net
SUMMARY:Manhattan School of Music Student Recital: Lorien Britt\, Classical Flute with Collaborative Piano
DESCRIPTION:Manhattan School of Music Student Recital \nPerformer(s)\nLorien Britt\, Classical Flute \nLorien Britt is a freshman undergraduate at the Manhattan School of Music in New York City. She is originally from Dallas\, Texas\, where she studied flute with Claire Johnson. Lorien was a member of the Greater Dallas Youth Orchestra for three years as part of its flute choir and premier symphony orchestra. She was also an active member of her high school ensembles\, church music ministry\, and both state and national flute organizations. Lorien received the Outstanding Performer distinction at the Texas State Solo and Ensemble Contest every year she has been in attendance. In 2022\, she was a member of the Texas Music Educators Association 6A All-State Philharmonic Orchestra. She has performed for several world-renowned flutists\, such as Jasmine Choi\, Paul Edmund-Davies\, Lorna McGhee\, and James Walker. Lorien currently studies flute performance with Linda Chesis and most recently performed as a member of the Manhattan School of Music Symphony Orchestra\, conducted by George Manahan. \nRecital Hall\nPforzheimer Hall
URL:https://www.pianyc.net/event/manhattan-school-of-music-student-recital-lorien-britt-classical-flute-with-collaborative-piano/
LOCATION:Manhattan School of Music\, 120 Claremont Avenue\, New York\, NY\, 10027\, United States
CATEGORIES:Live Musical Performance
ATTACH;FMTTYPE=image/jpeg:https://media.museonline.org/wp-content/uploads/2022/09/29154054/IMG_2432-scaled.jpg
GEO:40.8123903;-73.9614817
X-APPLE-STRUCTURED-LOCATION;VALUE=URI;X-ADDRESS=Manhattan School of Music 120 Claremont Avenue New York NY 10027 United States;X-APPLE-RADIUS=500;X-TITLE=120 Claremont Avenue:geo:-73.9614817,40.8123903
END:VEVENT
END:VCALENDAR