BEGIN:VCALENDAR
VERSION:2.0
PRODID:-//PIANYC - ECPv5.12.4//NONSGML v1.0//EN
CALSCALE:GREGORIAN
METHOD:PUBLISH
X-WR-CALNAME:PIANYC
X-ORIGINAL-URL:https://www.pianyc.net
X-WR-CALDESC:Events for PIANYC
BEGIN:VTIMEZONE
TZID:America/New_York
BEGIN:DAYLIGHT
TZOFFSETFROM:-0500
TZOFFSETTO:-0400
TZNAME:EDT
DTSTART:20260308T070000
END:DAYLIGHT
BEGIN:STANDARD
TZOFFSETFROM:-0400
TZOFFSETTO:-0500
TZNAME:EST
DTSTART:20261101T060000
END:STANDARD
END:VTIMEZONE
BEGIN:VEVENT
DTSTART;TZID=America/New_York:20260412T160000
DTEND;TZID=America/New_York:20260412T160000
DTSTAMP:20260421T101431
CREATED:20260223T142202Z
LAST-MODIFIED:20260225T005011Z
UID:196906-1776009600-1776009600@www.pianyc.net
SUMMARY:Manhattan School of Music Student Recital: Kristine Ayvazyan\, Classical Piano
DESCRIPTION:Manhattan School of Music Student Recital \nPerformer(s)\nKristine Ayvazyan\, Classical Piano \nKristine has been playing piano since the age of six. She studied at the Prague Conservatory in the class of doc. MgA. Martin Kasík\, PhD.\, with whom she also studied at the Music Faculty of the Academy of Performing Arts in Prague. She is currently pursuing her graduate studies at Manhattan School of Music in New York City under the guidance of Prof. William Wolfram. \nKristine is a laureate of numerous national and international piano competitions\, including the title of absolute winner in the international competition Amadeus in Brno and Virtuosi per musica di pianoforte in Ústí nad Labem. She has also received many other awards\, such as 2nd prize and the EMCY Prize in the International Smetana Piano Competition in Plzeň\, 2nd prize in the 22nd International Fryderyk Chopin Piano Competition for Children and Youth in Szafarnia (Poland)\, and 2nd prize in the Città di San Donà di Piave competition in Venice. This year\, she won 1st prize and the Outstanding Laureate Award in the online World’s Best Musician competition. \nShe has performed at major concerts and festivals\, including the Leopold Mozart International Festival in Augsburg\, The American Fine Art Festival in New York (where she performed at Carnegie Hall)\, and the International Children’s Festival of the Vladimir Spivakov Foundation in Moscow\, among others. Kristine has had the opportunity to perform with prestigious orchestras\, including the Czech Philharmonic Orchestra\, Brno Philharmonic Orchestra\, North Bohemian Theatre Orchestra\, West Bohemian Symphony Orchestra\, and the State Chamber Orchestra of Armenia. \nIn addition to her solo performances\, including recitals in Mariánské Lázně\, Germany\, Spain\, and Budapest\, Kristine also plays the violin and has won several prizes in national competitions in this field. \nRecital Hall\nA-Miller Recital Hall
URL:https://www.pianyc.net/event/manhattan-school-of-music-student-recital-kristine-ayvazyan-classical-piano/
LOCATION:Manhattan School of Music\, 120 Claremont Avenue\, New York\, NY\, 10027\, United States
CATEGORIES:Live Musical Performance
ATTACH;FMTTYPE=image/jpeg:https://www.msmnyc.edu/wp-content/uploads/2024/11/Kristine-Ayvazyan.jpg
GEO:40.8123903;-73.9614817
X-APPLE-STRUCTURED-LOCATION;VALUE=URI;X-ADDRESS=Manhattan School of Music 120 Claremont Avenue New York NY 10027 United States;X-APPLE-RADIUS=500;X-TITLE=120 Claremont Avenue:geo:-73.9614817,40.8123903
END:VEVENT
END:VCALENDAR