BEGIN:VCALENDAR
VERSION:2.0
PRODID:-//PIANYC - ECPv5.12.4//NONSGML v1.0//EN
CALSCALE:GREGORIAN
METHOD:PUBLISH
X-WR-CALNAME:PIANYC
X-ORIGINAL-URL:https://www.pianyc.net
X-WR-CALDESC:Events for PIANYC
BEGIN:VTIMEZONE
TZID:America/New_York
BEGIN:DAYLIGHT
TZOFFSETFROM:-0500
TZOFFSETTO:-0400
TZNAME:EDT
DTSTART:20260308T070000
END:DAYLIGHT
BEGIN:STANDARD
TZOFFSETFROM:-0400
TZOFFSETTO:-0500
TZNAME:EST
DTSTART:20261101T060000
END:STANDARD
END:VTIMEZONE
BEGIN:VEVENT
DTSTART;TZID=America/New_York:20260320T200000
DTEND;TZID=America/New_York:20260320T200000
DTSTAMP:20260420T084948
CREATED:20260223T142048Z
LAST-MODIFIED:20260225T000136Z
UID:196882-1774036800-1774036800@www.pianyc.net
SUMMARY:Manhattan School of Music Student Recital: Faith Burkowski\, Classical Violin with Collaborative Piano
DESCRIPTION:Manhattan School of Music Student Recital \nPerformer(s)\nFaith Borkowski\, Classical Violin \nRecital Hall\nMikowsky Hall
URL:https://www.pianyc.net/event/manhattan-school-of-music-student-recital-faith-burkowski-classical-violin-with-collaborative-piano/
LOCATION:Manhattan School of Music\, 120 Claremont Avenue\, New York\, NY\, 10027\, United States
CATEGORIES:Live Musical Performance
ATTACH;FMTTYPE=image/jpeg:https://assets.pippa.io/shows/5caa7a6ffe324a2e6beba663/1622406788819-9a5b51c3a4228e3300c74ca9c6af70a1.jpeg
GEO:40.8123903;-73.9614817
X-APPLE-STRUCTURED-LOCATION;VALUE=URI;X-ADDRESS=Manhattan School of Music 120 Claremont Avenue New York NY 10027 United States;X-APPLE-RADIUS=500;X-TITLE=120 Claremont Avenue:geo:-73.9614817,40.8123903
END:VEVENT
END:VCALENDAR