BEGIN:VCALENDAR
VERSION:2.0
PRODID:-//PIANYC - ECPv5.12.4//NONSGML v1.0//EN
CALSCALE:GREGORIAN
METHOD:PUBLISH
X-WR-CALNAME:PIANYC
X-ORIGINAL-URL:https://www.pianyc.net
X-WR-CALDESC:Events for PIANYC
BEGIN:VTIMEZONE
TZID:America/New_York
BEGIN:DAYLIGHT
TZOFFSETFROM:-0500
TZOFFSETTO:-0400
TZNAME:EDT
DTSTART:20260308T070000
END:DAYLIGHT
BEGIN:STANDARD
TZOFFSETFROM:-0400
TZOFFSETTO:-0500
TZNAME:EST
DTSTART:20261101T060000
END:STANDARD
END:VTIMEZONE
BEGIN:VEVENT
DTSTART;TZID=America/New_York:20260412T130000
DTEND;TZID=America/New_York:20260412T130000
DTSTAMP:20260419T090942
CREATED:20260316T003947Z
LAST-MODIFIED:20260321T152051Z
UID:198510-1775998800-1775998800@www.pianyc.net
SUMMARY:Manhattan School of Music Student Recital: Chase Domke\, Orchestral Trumpet with Collaborative Piano
DESCRIPTION:Manhattan School of Music Student Recital \nPerformer(s)\nChase Domke\, Orchestral Trumpet \n\nCHASE DOMKE 25\, born in Dallas\, Texas\, is earning a Professional Performance Diploma at Manhattan School of Music\, studying with Ethan Bensdorf. He took 3rd prize in the 2024 International Trumpet Guild Orchestral Excerpt Competition\, and has performed with the Lansing Symphony\, Ann Arbor Symphony\, and Jackson Symphony orchestras. \n\nRecital Hall\nMikowsky Hall
URL:https://www.pianyc.net/event/manhattan-school-of-music-student-recital-chase-domke-orchestral-trumpet-with-collaborative-piano/
LOCATION:Manhattan School of Music\, 120 Claremont Avenue\, New York\, NY\, 10027\, United States
CATEGORIES:Live Musical Performance
ATTACH;FMTTYPE=image/jpeg:https://musicacademy.org/app/uploads/2025/05/domke_chase_trumpet-studio_2025-headshot_high-quality-e1747694725303.jpg
GEO:40.8123903;-73.9614817
X-APPLE-STRUCTURED-LOCATION;VALUE=URI;X-ADDRESS=Manhattan School of Music 120 Claremont Avenue New York NY 10027 United States;X-APPLE-RADIUS=500;X-TITLE=120 Claremont Avenue:geo:-73.9614817,40.8123903
END:VEVENT
END:VCALENDAR