BEGIN:VCALENDAR
VERSION:2.0
PRODID:-//PIANYC - ECPv5.12.4//NONSGML v1.0//EN
CALSCALE:GREGORIAN
METHOD:PUBLISH
X-WR-CALNAME:PIANYC
X-ORIGINAL-URL:https://www.pianyc.net
X-WR-CALDESC:Events for PIANYC
BEGIN:VTIMEZONE
TZID:America/New_York
BEGIN:DAYLIGHT
TZOFFSETFROM:-0500
TZOFFSETTO:-0400
TZNAME:EDT
DTSTART:20240310T070000
END:DAYLIGHT
BEGIN:STANDARD
TZOFFSETFROM:-0400
TZOFFSETTO:-0500
TZNAME:EST
DTSTART:20241103T060000
END:STANDARD
END:VTIMEZONE
BEGIN:VEVENT
DTSTART;TZID=America/New_York:20241124T103000
DTEND;TZID=America/New_York:20241124T103000
DTSTAMP:20260420T121609
CREATED:20241103T175401Z
LAST-MODIFIED:20241103T175401Z
UID:173364-1732444200-1732444200@www.pianyc.net
SUMMARY:Manhattan School of Music Student Recital: Austin Wegener\, Classical Bassoon & Oliver Costello\, Classical Violin with Collaborative Piano
DESCRIPTION:Manhattan School of Music Student Recital with Austin Wegener\, Classical Bassoon & Oliver \nCostello\, Classical Violin.\nCarla Bossi-Co Hall
URL:https://www.pianyc.net/event/manhattan-school-of-music-student-recital-austin-wegener-classical-bassoon-oliver-costello-classical-violin-with-collaborative-piano/
LOCATION:Manhattan School of Music\, 120 Claremont Avenue\, New York\, NY\, 10027\, United States
CATEGORIES:Live Musical Performance
ATTACH;FMTTYPE=image/jpeg:https://www.msmnyc.edu/wp-content/uploads/2019/05/33645828770_8798a0abc6_k-e1557954335111-1486x940.jpg
GEO:40.8123903;-73.9614817
X-APPLE-STRUCTURED-LOCATION;VALUE=URI;X-ADDRESS=Manhattan School of Music 120 Claremont Avenue New York NY 10027 United States;X-APPLE-RADIUS=500;X-TITLE=120 Claremont Avenue:geo:-73.9614817,40.8123903
END:VEVENT
END:VCALENDAR