BEGIN:VCALENDAR
VERSION:2.0
PRODID:-//PIANYC - ECPv5.12.4//NONSGML v1.0//EN
CALSCALE:GREGORIAN
METHOD:PUBLISH
X-WR-CALNAME:PIANYC
X-ORIGINAL-URL:https://www.pianyc.net
X-WR-CALDESC:Events for PIANYC
BEGIN:VTIMEZONE
TZID:America/New_York
BEGIN:DAYLIGHT
TZOFFSETFROM:-0500
TZOFFSETTO:-0400
TZNAME:EDT
DTSTART:20230312T070000
END:DAYLIGHT
BEGIN:STANDARD
TZOFFSETFROM:-0400
TZOFFSETTO:-0500
TZNAME:EST
DTSTART:20231105T060000
END:STANDARD
END:VTIMEZONE
BEGIN:VEVENT
DTSTART;TZID=America/New_York:20231117T160000
DTEND;TZID=America/New_York:20231117T160000
DTSTAMP:20260420T120119
CREATED:20230919T122034Z
LAST-MODIFIED:20230919T122034Z
UID:155157-1700236800-1700236800@www.pianyc.net
SUMMARY:Manhattan School of Music Jazz Piano Master Class: Vardan Ovsepian
DESCRIPTION:Bossi-Comelli Studio\n130 Claremont Avenue\nNew York\, New York 10027 \nVardan Ovsepian is an Armenian-born pianist/composer whose studies include Yerevan State Conservatory\, Estonian Music Academy\, Helsinki Jazz Conservatory\, and Berklee College of Music. \nFrom the early years Vardan was fascinated by the blend of western classical music with jazz\, and has been in perpetual search for unique ways of incorporating the hybrid formation in his composing and improvising. Consequently a semi-large chamber ensemble (VOCE) was formed in 2005\, focusing on the cinematic approach in the musical narrative. \nThroughout the years Vardan has also developed a remarkable angular geometric world\, connected to his background in chess\, and his attraction to minimalism and modern architecture\, resulting in the publication of 2 books: Mirror Exercises (2011) and Permutation Studies (2020). \nAnother spotlight is the origination of the “Fractal Limit” duet with Tatiana Parra\, which has received an immense international recognition. The project showcases Vardan’s remarkable technical proficiency and capacity to articulate contrapuntal textures.
URL:https://www.pianyc.net/event/manhattan-school-of-music-jazz-piano-master-class-vardan-ovsepian/
LOCATION:Manhattan School of Music\, 120 Claremont Avenue\, New York\, NY\, 10027\, United States
CATEGORIES:Live Musical Performance
ATTACH;FMTTYPE=image/jpeg:https://www.msmnyc.edu/wp-content/uploads/2023/08/0021243696_25.jpeg
GEO:40.8123903;-73.9614817
X-APPLE-STRUCTURED-LOCATION;VALUE=URI;X-ADDRESS=Manhattan School of Music 120 Claremont Avenue New York NY 10027 United States;X-APPLE-RADIUS=500;X-TITLE=120 Claremont Avenue:geo:-73.9614817,40.8123903
END:VEVENT
END:VCALENDAR