BEGIN:VCALENDAR
VERSION:2.0
PRODID:-//PIANYC - ECPv5.12.4//NONSGML v1.0//EN
CALSCALE:GREGORIAN
METHOD:PUBLISH
X-WR-CALNAME:PIANYC
X-ORIGINAL-URL:https://www.pianyc.net
X-WR-CALDESC:Events for PIANYC
BEGIN:VTIMEZONE
TZID:America/New_York
BEGIN:DAYLIGHT
TZOFFSETFROM:-0500
TZOFFSETTO:-0400
TZNAME:EDT
DTSTART:20230312T070000
END:DAYLIGHT
BEGIN:STANDARD
TZOFFSETFROM:-0400
TZOFFSETTO:-0500
TZNAME:EST
DTSTART:20231105T060000
END:STANDARD
END:VTIMEZONE
BEGIN:VEVENT
DTSTART;TZID=America/New_York:20230919T160000
DTEND;TZID=America/New_York:20230919T173000
DTSTAMP:20260420T104346
CREATED:20230901T005148Z
LAST-MODIFIED:20230901T005148Z
UID:154225-1695139200-1695144600@www.pianyc.net
SUMMARY:Manhattan School of Music Jazz Piano Master Class: Jason Moran
DESCRIPTION:Jason Moran (BM ’97) \nThis Master Class is part of the Janice B. and Milford D. Gerton Master Class Series. \nBossi-Comelli Studio \nSince his formidable emergence on the music scene in the late 90s\, jazz pianist Jason Moran has proven more than his brilliance as a performer. The Blue Note Records recording artist has established himself as a risk-taker and innovator of new directions for jazz as a whole. \nIn almost every category that matters – improvisation\, composition\, group concept\, repertoire\, technique and experimentation – Moran\, and his group The Bandwagon – with bassist Tarus Mateen and drummer Nasheet Waits – have challenged the status quo\, and earned the reputation as “the future of jazz.”
URL:https://www.pianyc.net/event/manhattan-school-of-music-jazz-piano-master-class-jason-moran/
LOCATION:Manhattan School of Music\, 120 Claremont Avenue\, New York\, NY\, 10027\, United States
CATEGORIES:Live Musical Performance
ATTACH;FMTTYPE=image/jpeg:https://www.msmnyc.edu/wp-content/uploads/2023/08/look_jason5_lg.jpeg
GEO:40.8123903;-73.9614817
X-APPLE-STRUCTURED-LOCATION;VALUE=URI;X-ADDRESS=Manhattan School of Music 120 Claremont Avenue New York NY 10027 United States;X-APPLE-RADIUS=500;X-TITLE=120 Claremont Avenue:geo:-73.9614817,40.8123903
END:VEVENT
END:VCALENDAR