BEGIN:VCALENDAR
VERSION:2.0
PRODID:-//PIANYC - ECPv5.12.4//NONSGML v1.0//EN
CALSCALE:GREGORIAN
METHOD:PUBLISH
X-WR-CALNAME:PIANYC
X-ORIGINAL-URL:https://www.pianyc.net
X-WR-CALDESC:Events for PIANYC
BEGIN:VTIMEZONE
TZID:America/New_York
BEGIN:DAYLIGHT
TZOFFSETFROM:-0500
TZOFFSETTO:-0400
TZNAME:EDT
DTSTART:20230312T070000
END:DAYLIGHT
BEGIN:STANDARD
TZOFFSETFROM:-0400
TZOFFSETTO:-0500
TZNAME:EST
DTSTART:20231105T060000
END:STANDARD
END:VTIMEZONE
BEGIN:VEVENT
DTSTART;TZID=America/New_York:20230309T200000
DTEND;TZID=America/New_York:20230309T213000
DTSTAMP:20260421T083406
CREATED:20230306T222548Z
LAST-MODIFIED:20230314T120721Z
UID:146461-1678392000-1678397400@www.pianyc.net
SUMMARY:Mahler Chamber Orchestra; Mitsuko Uchida\, Piano and Director at Carnegie Hall
DESCRIPTION:Performers\nMahler Chamber Orchestra\nMitsuko Uchida\, Piano and Director\nJosé Maria Blumenschein\, Concertmaster and Leader \nProgram\nMOZART Piano Concerto No. 25 in C Major\, K. 503\nSCHOENBERG Kammersymphonie No. 1\nMOZART Piano Concerto No. 27 in B-flat Major\, K. 595
URL:https://www.pianyc.net/event/mahler-chamber-orchestra-mitsuko-uchida-piano-and-director-at-carnegie-hall-3/
LOCATION:Carnegie Hall\, 881 Seventh Avenue\, New York\, NY\, 10019\, United States
CATEGORIES:Live Musical Performance
ATTACH;FMTTYPE=image/jpeg:https://carnegiehall.imgix.net:443/-/media/CarnegieHall/Images/Events/2022-2023-CH-Presents/2023-03-09-Mahler-Chamber-Orchestra-Mitsuko-Uchida.jpg
GEO:40.764938;-73.979897
X-APPLE-STRUCTURED-LOCATION;VALUE=URI;X-ADDRESS=Carnegie Hall 881 Seventh Avenue New York NY 10019 United States;X-APPLE-RADIUS=500;X-TITLE=881 Seventh Avenue:geo:-73.979897,40.764938
END:VEVENT
END:VCALENDAR