BEGIN:VCALENDAR
VERSION:2.0
PRODID:-//PIANYC - ECPv5.12.4//NONSGML v1.0//EN
CALSCALE:GREGORIAN
METHOD:PUBLISH
X-WR-CALNAME:PIANYC
X-ORIGINAL-URL:https://www.pianyc.net
X-WR-CALDESC:Events for PIANYC
BEGIN:VTIMEZONE
TZID:America/New_York
BEGIN:DAYLIGHT
TZOFFSETFROM:-0500
TZOFFSETTO:-0400
TZNAME:EDT
DTSTART:20230312T070000
END:DAYLIGHT
BEGIN:STANDARD
TZOFFSETFROM:-0400
TZOFFSETTO:-0500
TZNAME:EST
DTSTART:20231105T060000
END:STANDARD
END:VTIMEZONE
BEGIN:VEVENT
DTSTART;TZID=America/New_York:20230309T200000
DTEND;TZID=America/New_York:20230309T213000
DTSTAMP:20260420T084533
CREATED:20220815T233033Z
LAST-MODIFIED:20220817T013736Z
UID:135213-1678392000-1678397400@www.pianyc.net
SUMMARY:Mitsuko Uchida with Mahler Chamber Orchestra at Carnegie Hall
DESCRIPTION:Mitsuko Uchida is an incomparable interpreter of Mozart. From her deeply studied readings and performances to her leadership of the Mahler Chamber Orchestra from the keyboard\, there is no better way to experience this repertoire. The program boasts two of Mozart’s late piano concertos\, each of them a standout work even among the master’s timeless oeuvre. Also featured is Schoenberg’s Kammersymphonie No. 1\, a work of constant motion and flowing interplay.
URL:https://www.pianyc.net/event/mahler-chamber-orchestra-and-mitsuko-uchida-at-carnegie-hall/
LOCATION:Carnegie Hall\, 881 Seventh Avenue\, New York\, NY\, 10019\, United States
CATEGORIES:Live Musical Performance
ATTACH;FMTTYPE=image/jpeg:https://www.pianyc.net/wp-content/uploads/2022/08/itsu.jpeg
GEO:40.764938;-73.979897
X-APPLE-STRUCTURED-LOCATION;VALUE=URI;X-ADDRESS=Carnegie Hall 881 Seventh Avenue New York NY 10019 United States;X-APPLE-RADIUS=500;X-TITLE=881 Seventh Avenue:geo:-73.979897,40.764938
END:VEVENT
END:VCALENDAR