BEGIN:VCALENDAR
VERSION:2.0
PRODID:-//PIANYC - ECPv5.12.4//NONSGML v1.0//EN
CALSCALE:GREGORIAN
METHOD:PUBLISH
X-WR-CALNAME:PIANYC
X-ORIGINAL-URL:https://www.pianyc.net
X-WR-CALDESC:Events for PIANYC
BEGIN:VTIMEZONE
TZID:America/New_York
BEGIN:DAYLIGHT
TZOFFSETFROM:-0500
TZOFFSETTO:-0400
TZNAME:EDT
DTSTART:20250309T070000
END:DAYLIGHT
BEGIN:STANDARD
TZOFFSETFROM:-0400
TZOFFSETTO:-0500
TZNAME:EST
DTSTART:20251102T060000
END:STANDARD
END:VTIMEZONE
BEGIN:VEVENT
DTSTART;TZID=America/New_York:20250505T123000
DTEND;TZID=America/New_York:20250505T143000
DTSTAMP:20260420T103241
CREATED:20250503T233935Z
LAST-MODIFIED:20250503T234650Z
UID:180499-1746448200-1746455400@www.pianyc.net
SUMMARY:Luiz Simas on the Upper Terrace at Bryant Park
DESCRIPTION:A five\, six\, seven\, eight…come on down and swing along to the best ragtime\, stride\, and jazz the Big Apple has to offer. With special performances on select Thursdays and sprinkled spontaneously throughout the season. \nRio-born Brazilian composer/singer/pianist Luiz Simas has been living in New York since ‘89. He has led original groups in festivals and clubs in the US\, in Europe and in Brazil. Luiz’s voice and music have warmed major venues including Birdland Jazz club\, the Weill Recital Hall at Carnegie Hall\, the Metropolitan Room and the Iridium in New York\, the Gamle Logen Hall in Oslo\, the Pheasantry in London\, the Phillarmonia Hall in Odessa and Sala Cecilia Meirelles in Rio.
URL:https://www.pianyc.net/event/luiz-simas-on-the-upper-terrace-at-bryant-park-2/2025-05-05/
LOCATION:Bryant Park\, Upper Terrace\, 36 W 40th St\, New York\, NY\, 10018\, United States
CATEGORIES:Live Musical Performance
ATTACH;FMTTYPE=image/jpeg:https://www.pianyc.net/wp-content/uploads/2024/05/bryant_park_piano.jpg
GEO:40.7527864;-73.9836149
X-APPLE-STRUCTURED-LOCATION;VALUE=URI;X-ADDRESS=Bryant Park Upper Terrace 36 W 40th St New York NY 10018 United States;X-APPLE-RADIUS=500;X-TITLE=36 W 40th St:geo:-73.9836149,40.7527864
END:VEVENT
END:VCALENDAR