BEGIN:VCALENDAR
VERSION:2.0
PRODID:-//PIANYC - ECPv5.12.4//NONSGML v1.0//EN
CALSCALE:GREGORIAN
METHOD:PUBLISH
X-WR-CALNAME:PIANYC
X-ORIGINAL-URL:https://www.pianyc.net
X-WR-CALDESC:Events for PIANYC
BEGIN:VTIMEZONE
TZID:America/New_York
BEGIN:DAYLIGHT
TZOFFSETFROM:-0500
TZOFFSETTO:-0400
TZNAME:EDT
DTSTART:20220313T070000
END:DAYLIGHT
BEGIN:STANDARD
TZOFFSETFROM:-0400
TZOFFSETTO:-0500
TZNAME:EST
DTSTART:20221106T060000
END:STANDARD
END:VTIMEZONE
BEGIN:VEVENT
DTSTART;TZID=America/New_York:20221110T193000
DTEND;TZID=America/New_York:20221110T213000
DTSTAMP:20260420T091447
CREATED:20220903T195451Z
LAST-MODIFIED:20220903T195451Z
UID:136100-1668108600-1668115800@www.pianyc.net
SUMMARY:Lise de la Salle Solo Recital at French Consulate in New York
DESCRIPTION:French-American Piano Society \nPresents \nLISE DE LA SALLE\, Piano \n2022 Benefit Recital \n“Surprise” \nThe program will not be announced\, be prepared to be surprised! \nThe recital will be followed by a glass of champagne and artist meet-and-greet. \nProceeds will be used to fund our 2023 Young Pianist Scholarships.
URL:https://www.pianyc.net/event/lise-de-la-salle-solo-recital-at-french-consulate-in-new-york/
LOCATION:French Consulate\, 934 Fifth Avenue\, New York\, NY\, NY 10021\, United States
CATEGORIES:Live Musical Performance
ATTACH;FMTTYPE=image/jpeg:https://img.evbuc.com/https%3A%2F%2Fcdn.evbuc.com%2Fimages%2F335117769%2F90224703647%2F1%2Foriginal.20220814-150637?w=1000&auto=format%2Ccompress&q=75&sharp=10&rect=44%2C0%2C1272%2C636&s=3a6b82ba5555e9dedfd040d94474150a
ORGANIZER;CN="French-American%20Piano%20Society":MAILTO:contact at french-american-piano.org
GEO:40.7740504;-73.9655322
X-APPLE-STRUCTURED-LOCATION;VALUE=URI;X-ADDRESS=French Consulate 934 Fifth Avenue New York NY NY 10021 United States;X-APPLE-RADIUS=500;X-TITLE=934 Fifth Avenue:geo:-73.9655322,40.7740504
END:VEVENT
END:VCALENDAR