BEGIN:VCALENDAR
VERSION:2.0
PRODID:-//PIANYC - ECPv5.12.4//NONSGML v1.0//EN
CALSCALE:GREGORIAN
METHOD:PUBLISH
X-WR-CALNAME:PIANYC
X-ORIGINAL-URL:https://www.pianyc.net
X-WR-CALDESC:Events for PIANYC
BEGIN:VTIMEZONE
TZID:America/New_York
BEGIN:DAYLIGHT
TZOFFSETFROM:-0500
TZOFFSETTO:-0400
TZNAME:EDT
DTSTART:20220313T070000
END:DAYLIGHT
BEGIN:STANDARD
TZOFFSETFROM:-0400
TZOFFSETTO:-0500
TZNAME:EST
DTSTART:20221106T060000
END:STANDARD
END:VTIMEZONE
BEGIN:VEVENT
DTSTART;TZID=America/New_York:20221029T190000
DTEND;TZID=America/New_York:20221029T220000
DTSTAMP:20260421T050103
CREATED:20221024T153905Z
LAST-MODIFIED:20221024T153905Z
UID:140448-1667070000-1667080800@www.pianyc.net
SUMMARY:Letters to Her: Chamber Works at Ukrainian Institute of America
DESCRIPTION:Solomiya Ivakhiv\, violin \nRebecca Fischer\, violin \nSteven Beck\, piano \nRaman Ramakrishnan\, cello \n___________________________ \nProgram: \nNestor Nyzhankivsky\, Suite for Piano Solo “Letters to Her” \nSerhiy Bortkevych\, Sonata for Violin and Piano\, Op. 26 \nErich Wolfgang Korngold\, Suite for Two Violins\, Cello and a Pianist’s Left Hand\, Op. 23 \n___________________________ \nThis concert is in memory of Larisa Paschuk\, who passed away on September 11\, 2022\, was a long-time member and benefactor of the Ukrainian Institute of America. Together with her husband Andrij\, who predeceased her\, she provided guidance and support for the MATI series for decades. In recognition\, the UIA dedicated this concert to her memory.
URL:https://www.pianyc.net/event/letters-to-her-chamber-works-at-ukrainian-institute-of-america/
LOCATION:Ukrainian Institute of America\, 2 East 79th Street\, New York\, NY\, 10075\, United States
CATEGORIES:Live Musical Performance
ATTACH;FMTTYPE=image/jpeg:https://img.evbuc.com/https%3A%2F%2Fcdn.evbuc.com%2Fimages%2F365081179%2F152559383237%2F1%2Foriginal.20221001-210645?w=1000&auto=format%2Ccompress&q=75&sharp=10&rect=0%2C0%2C2160%2C1080&s=d8ac637836bfc0481cf7828c23c6a081
GEO:40.7767017;-73.9635577
X-APPLE-STRUCTURED-LOCATION;VALUE=URI;X-ADDRESS=Ukrainian Institute of America 2 East 79th Street New York NY 10075 United States;X-APPLE-RADIUS=500;X-TITLE=2 East 79th Street:geo:-73.9635577,40.7767017
END:VEVENT
END:VCALENDAR